BEGIN:VCALENDAR
VERSION:2.0
PRODID:-//Gippers Bar &amp; Restaurant - ECPv6.15.20//NONSGML v1.0//EN
CALSCALE:GREGORIAN
METHOD:PUBLISH
X-WR-CALNAME:Gippers Bar &amp; Restaurant
X-ORIGINAL-URL:https://gippersgr.com
X-WR-CALDESC:Events for Gippers Bar &amp; Restaurant
REFRESH-INTERVAL;VALUE=DURATION:PT1H
X-Robots-Tag:noindex
X-PUBLISHED-TTL:PT1H
BEGIN:VTIMEZONE
TZID:America/Detroit
BEGIN:DAYLIGHT
TZOFFSETFROM:-0500
TZOFFSETTO:-0400
TZNAME:EDT
DTSTART:20220313T070000
END:DAYLIGHT
BEGIN:STANDARD
TZOFFSETFROM:-0400
TZOFFSETTO:-0500
TZNAME:EST
DTSTART:20221106T060000
END:STANDARD
BEGIN:DAYLIGHT
TZOFFSETFROM:-0500
TZOFFSETTO:-0400
TZNAME:EDT
DTSTART:20230312T070000
END:DAYLIGHT
BEGIN:STANDARD
TZOFFSETFROM:-0400
TZOFFSETTO:-0500
TZNAME:EST
DTSTART:20231105T060000
END:STANDARD
BEGIN:DAYLIGHT
TZOFFSETFROM:-0500
TZOFFSETTO:-0400
TZNAME:EDT
DTSTART:20240310T070000
END:DAYLIGHT
BEGIN:STANDARD
TZOFFSETFROM:-0400
TZOFFSETTO:-0500
TZNAME:EST
DTSTART:20241103T060000
END:STANDARD
BEGIN:DAYLIGHT
TZOFFSETFROM:-0500
TZOFFSETTO:-0400
TZNAME:EDT
DTSTART:20250309T070000
END:DAYLIGHT
BEGIN:STANDARD
TZOFFSETFROM:-0400
TZOFFSETTO:-0500
TZNAME:EST
DTSTART:20251102T060000
END:STANDARD
END:VTIMEZONE
BEGIN:VEVENT
DTSTART;TZID=America/Detroit:20240517T200000
DTEND;TZID=America/Detroit:20240518T000000
DTSTAMP:20260420T141442
CREATED:20240515T145947Z
LAST-MODIFIED:20240515T145947Z
UID:621-1715976000-1715990400@gippersgr.com
SUMMARY:Hot Sauce Express @ Gippers
DESCRIPTION:
URL:https://gippersgr.com/event/hot-sauce-express-gippers-6/
LOCATION:Gippers Bar & Restaurant\, 2929 Kraft Ave SE\, Grand Rapids\, MI 49512\, Grand Rapids\, MI\, 49512\, United States
CATEGORIES:Band
ATTACH;FMTTYPE=image/jpeg:https://gippersgr.com/wp-content/uploads/2022/07/289007305_10218494881877914_7907939122123008029_n.jpeg
END:VEVENT
BEGIN:VEVENT
DTSTART;TZID=America/Detroit:20240427T210000
DTEND;TZID=America/Detroit:20240428T010000
DTSTAMP:20260420T141442
CREATED:20240423T195736Z
LAST-MODIFIED:20240423T195736Z
UID:618-1714251600-1714266000@gippersgr.com
SUMMARY:Par-llo Connection @ Gippers
DESCRIPTION:
URL:https://gippersgr.com/event/par-llo-connection-gippers-19/
LOCATION:Gippers Bar & Restaurant\, 2929 Kraft Ave SE\, Grand Rapids\, MI 49512\, Grand Rapids\, MI\, 49512\, United States
CATEGORIES:Band
ATTACH;FMTTYPE=image/jpeg:https://gippersgr.com/wp-content/uploads/2022/07/274086923_1359251291162394_5349018107106833669_n.jpg
END:VEVENT
BEGIN:VEVENT
DTSTART;TZID=America/Detroit:20240426T200000
DTEND;TZID=America/Detroit:20240427T000000
DTSTAMP:20260420T141442
CREATED:20240403T141312Z
LAST-MODIFIED:20240403T141312Z
UID:612-1714161600-1714176000@gippersgr.com
SUMMARY:Mama's Hot Sauce @ Gippers
DESCRIPTION:
URL:https://gippersgr.com/event/mamas-hot-sauce-gippers/
LOCATION:Gippers Bar & Restaurant\, 2929 Kraft Ave SE\, Grand Rapids\, MI 49512\, Grand Rapids\, MI\, 49512\, United States
CATEGORIES:Band
ATTACH;FMTTYPE=image/jpeg:https://gippersgr.com/wp-content/uploads/2024/04/289234791_451064817020003_8879394111871771_n.jpg
END:VEVENT
BEGIN:VEVENT
DTSTART;TZID=America/Detroit:20240420T210000
DTEND;TZID=America/Detroit:20240421T010000
DTSTAMP:20260420T141442
CREATED:20240403T141112Z
LAST-MODIFIED:20240403T141112Z
UID:610-1713646800-1713661200@gippersgr.com
SUMMARY:Azz-Izz @ Gippers
DESCRIPTION:
URL:https://gippersgr.com/event/azz-izz-gippers-19/
LOCATION:Gippers Bar & Restaurant\, 2929 Kraft Ave SE\, Grand Rapids\, MI 49512\, Grand Rapids\, MI\, 49512\, United States
CATEGORIES:Band
ATTACH;FMTTYPE=image/jpeg:https://gippersgr.com/wp-content/uploads/2022/07/288003801_3380970538817908_7886535415403612316_n.jpg
END:VEVENT
BEGIN:VEVENT
DTSTART;TZID=America/Detroit:20240412T200000
DTEND;TZID=America/Detroit:20240413T000000
DTSTAMP:20260420T141442
CREATED:20240403T141010Z
LAST-MODIFIED:20240403T141010Z
UID:608-1712952000-1712966400@gippersgr.com
SUMMARY:Bare Naked 90's @ Gippers
DESCRIPTION:
URL:https://gippersgr.com/event/bare-naked-90s-gippers-2/
LOCATION:Gippers Bar & Restaurant\, 2929 Kraft Ave SE\, Grand Rapids\, MI 49512\, Grand Rapids\, MI\, 49512\, United States
CATEGORIES:Band
ATTACH;FMTTYPE=image/jpeg:https://gippersgr.com/wp-content/uploads/2023/03/barenaked-90s.jpg
END:VEVENT
BEGIN:VEVENT
DTSTART;TZID=America/Detroit:20240406T210000
DTEND;TZID=America/Detroit:20240407T010000
DTSTAMP:20260420T141442
CREATED:20240403T140913Z
LAST-MODIFIED:20240403T140913Z
UID:606-1712437200-1712451600@gippersgr.com
SUMMARY:Hot Leslie @ Gippers
DESCRIPTION:
URL:https://gippersgr.com/event/hot-leslie-gippers-2/
LOCATION:Gippers Bar & Restaurant\, 2929 Kraft Ave SE\, Grand Rapids\, MI 49512\, Grand Rapids\, MI\, 49512\, United States
CATEGORIES:Band
ATTACH;FMTTYPE=image/jpeg:https://gippersgr.com/wp-content/uploads/2024/01/326728854_479341571057420_9165589678637896914_n.jpg
END:VEVENT
BEGIN:VEVENT
DTSTART;TZID=America/Detroit:20240405T200000
DTEND;TZID=America/Detroit:20240406T000000
DTSTAMP:20260420T141442
CREATED:20240403T140730Z
LAST-MODIFIED:20240403T140730Z
UID:604-1712347200-1712361600@gippersgr.com
SUMMARY:ID10TS @ Gippers
DESCRIPTION:
URL:https://gippersgr.com/event/id10ts-gippers-3/
LOCATION:Gippers Bar & Restaurant\, 2929 Kraft Ave SE\, Grand Rapids\, MI 49512\, Grand Rapids\, MI\, 49512\, United States
CATEGORIES:Band
ATTACH;FMTTYPE=image/jpeg:https://gippersgr.com/wp-content/uploads/2023/03/ID10T5.jpeg
END:VEVENT
BEGIN:VEVENT
DTSTART;TZID=America/Detroit:20240329T200000
DTEND;TZID=America/Detroit:20240330T000000
DTSTAMP:20260420T141442
CREATED:20240327T151306Z
LAST-MODIFIED:20240327T151306Z
UID:602-1711742400-1711756800@gippersgr.com
SUMMARY:Azz-Izz @ Gippers
DESCRIPTION:
URL:https://gippersgr.com/event/azz-izz-gippers-18/
LOCATION:Gippers Bar & Restaurant\, 2929 Kraft Ave SE\, Grand Rapids\, MI 49512\, Grand Rapids\, MI\, 49512\, United States
CATEGORIES:Band
ATTACH;FMTTYPE=image/jpeg:https://gippersgr.com/wp-content/uploads/2022/07/288003801_3380970538817908_7886535415403612316_n.jpg
END:VEVENT
BEGIN:VEVENT
DTSTART;TZID=America/Detroit:20240323T200000
DTEND;TZID=America/Detroit:20240324T000000
DTSTAMP:20260420T141442
CREATED:20240226T164228Z
LAST-MODIFIED:20240226T164228Z
UID:596-1711224000-1711238400@gippersgr.com
SUMMARY:Par-llo Connection @ Gippers
DESCRIPTION:
URL:https://gippersgr.com/event/par-llo-connection-gippers-18/
LOCATION:Gippers Bar & Restaurant\, 2929 Kraft Ave SE\, Grand Rapids\, MI 49512\, Grand Rapids\, MI\, 49512\, United States
CATEGORIES:Band
ATTACH;FMTTYPE=image/jpeg:https://gippersgr.com/wp-content/uploads/2022/07/274086923_1359251291162394_5349018107106833669_n.jpg
END:VEVENT
BEGIN:VEVENT
DTSTART;TZID=America/Detroit:20240308T200000
DTEND;TZID=America/Detroit:20240309T000000
DTSTAMP:20260420T141442
CREATED:20240226T164053Z
LAST-MODIFIED:20240226T164053Z
UID:593-1709928000-1709942400@gippersgr.com
SUMMARY:Whiskey Bound @ Gippers
DESCRIPTION:
URL:https://gippersgr.com/event/whiskey-bound-gippers/
LOCATION:Gippers Bar & Restaurant\, 2929 Kraft Ave SE\, Grand Rapids\, MI 49512\, Grand Rapids\, MI\, 49512\, United States
CATEGORIES:Band
ATTACH;FMTTYPE=image/jpeg:https://gippersgr.com/wp-content/uploads/2024/02/427971675_1129012401784538_9206287472986308244_n.jpg
END:VEVENT
BEGIN:VEVENT
DTSTART;TZID=America/Detroit:20240302T210000
DTEND;TZID=America/Detroit:20240303T010000
DTSTAMP:20260420T141442
CREATED:20240226T163718Z
LAST-MODIFIED:20240226T163718Z
UID:591-1709413200-1709427600@gippersgr.com
SUMMARY:Simply In Time @ Gippers
DESCRIPTION:
URL:https://gippersgr.com/event/simply-in-time-gippers-4/
LOCATION:Gippers Bar & Restaurant\, 2929 Kraft Ave SE\, Grand Rapids\, MI 49512\, Grand Rapids\, MI\, 49512\, United States
CATEGORIES:Band
ATTACH;FMTTYPE=image/jpeg:https://gippersgr.com/wp-content/uploads/2023/03/simply-in-time.jpg
END:VEVENT
BEGIN:VEVENT
DTSTART;TZID=America/Detroit:20240301T200000
DTEND;TZID=America/Detroit:20240302T000000
DTSTAMP:20260420T141442
CREATED:20240226T163615Z
LAST-MODIFIED:20240226T163615Z
UID:588-1709323200-1709337600@gippersgr.com
SUMMARY:Silent Bark @ Gippers
DESCRIPTION:
URL:https://gippersgr.com/event/silent-bark-gippers/
LOCATION:Gippers Bar & Restaurant\, 2929 Kraft Ave SE\, Grand Rapids\, MI 49512\, Grand Rapids\, MI\, 49512\, United States
CATEGORIES:Band
ATTACH;FMTTYPE=image/jpeg:https://gippersgr.com/wp-content/uploads/2024/02/264118529_415457803432826_2653899879636671624_n.jpg
END:VEVENT
BEGIN:VEVENT
DTSTART;TZID=America/Detroit:20240224T210000
DTEND;TZID=America/Detroit:20240225T010000
DTSTAMP:20260420T141442
CREATED:20240222T201448Z
LAST-MODIFIED:20240222T201448Z
UID:585-1708808400-1708822800@gippersgr.com
SUMMARY:Azz-Izz @ Gippers
DESCRIPTION:
URL:https://gippersgr.com/event/azz-izz-gippers-17/
LOCATION:Gippers Bar & Restaurant\, 2929 Kraft Ave SE\, Grand Rapids\, MI 49512\, Grand Rapids\, MI\, 49512\, United States
CATEGORIES:Band
ATTACH;FMTTYPE=image/jpeg:https://gippersgr.com/wp-content/uploads/2022/07/288003801_3380970538817908_7886535415403612316_n.jpg
END:VEVENT
BEGIN:VEVENT
DTSTART;TZID=America/Detroit:20240223T200000
DTEND;TZID=America/Detroit:20240224T000000
DTSTAMP:20260420T141442
CREATED:20240222T201251Z
LAST-MODIFIED:20240222T201251Z
UID:583-1708718400-1708732800@gippersgr.com
SUMMARY:Barenaked 90's @ Gippers
DESCRIPTION:
URL:https://gippersgr.com/event/barenaked-90s-gippers-4/
LOCATION:Gippers Bar & Restaurant\, 2929 Kraft Ave SE\, Grand Rapids\, MI 49512\, Grand Rapids\, MI\, 49512\, United States
CATEGORIES:Band
ATTACH;FMTTYPE=image/jpeg:https://gippersgr.com/wp-content/uploads/2023/03/barenaked-90s.jpg
END:VEVENT
BEGIN:VEVENT
DTSTART;TZID=America/Detroit:20240127T210000
DTEND;TZID=America/Detroit:20240128T010000
DTSTAMP:20260420T141442
CREATED:20240106T174749Z
LAST-MODIFIED:20240106T174749Z
UID:579-1706389200-1706403600@gippersgr.com
SUMMARY:Par-llo Connection @ Gippers
DESCRIPTION:
URL:https://gippersgr.com/event/par-llo-connection-gippers-17/
LOCATION:Gippers Bar & Restaurant\, 2929 Kraft Ave SE\, Grand Rapids\, MI 49512\, Grand Rapids\, MI\, 49512\, United States
CATEGORIES:Band
ATTACH;FMTTYPE=image/jpeg:https://gippersgr.com/wp-content/uploads/2022/07/274086923_1359251291162394_5349018107106833669_n.jpg
END:VEVENT
BEGIN:VEVENT
DTSTART;TZID=America/Detroit:20240126T200000
DTEND;TZID=America/Detroit:20240127T000000
DTSTAMP:20260420T141442
CREATED:20240106T174659Z
LAST-MODIFIED:20240106T174659Z
UID:576-1706299200-1706313600@gippersgr.com
SUMMARY:Hot Leslie @ Gippers
DESCRIPTION:
URL:https://gippersgr.com/event/hot-leslie-gippers/
LOCATION:Gippers Bar & Restaurant\, 2929 Kraft Ave SE\, Grand Rapids\, MI 49512\, Grand Rapids\, MI\, 49512\, United States
CATEGORIES:Band
ATTACH;FMTTYPE=image/jpeg:https://gippersgr.com/wp-content/uploads/2024/01/326728854_479341571057420_9165589678637896914_n.jpg
END:VEVENT
BEGIN:VEVENT
DTSTART;TZID=America/Detroit:20240120T210000
DTEND;TZID=America/Detroit:20240121T010000
DTSTAMP:20260420T141442
CREATED:20240106T174504Z
LAST-MODIFIED:20240106T174504Z
UID:574-1705784400-1705798800@gippersgr.com
SUMMARY:Azz-Izz @ Gippers
DESCRIPTION:
URL:https://gippersgr.com/event/azz-izz-gippers-16/
LOCATION:Gippers Bar & Restaurant\, 2929 Kraft Ave SE\, Grand Rapids\, MI 49512\, Grand Rapids\, MI\, 49512\, United States
CATEGORIES:Band
ATTACH;FMTTYPE=image/jpeg:https://gippersgr.com/wp-content/uploads/2022/07/288003801_3380970538817908_7886535415403612316_n.jpg
END:VEVENT
BEGIN:VEVENT
DTSTART;TZID=America/Detroit:20240119T200000
DTEND;TZID=America/Detroit:20240120T000000
DTSTAMP:20260420T141442
CREATED:20240106T174254Z
LAST-MODIFIED:20240106T174254Z
UID:572-1705694400-1705708800@gippersgr.com
SUMMARY:Flashback @ Gippers
DESCRIPTION:
URL:https://gippersgr.com/event/flashback-gippers-5/
LOCATION:Gippers Bar & Restaurant\, 2929 Kraft Ave SE\, Grand Rapids\, MI 49512\, Grand Rapids\, MI\, 49512\, United States
CATEGORIES:Band
ATTACH;FMTTYPE=image/jpeg:https://gippersgr.com/wp-content/uploads/2022/09/172640_105478422868337_992973_o.jpg
END:VEVENT
BEGIN:VEVENT
DTSTART;TZID=America/Detroit:20240106T210000
DTEND;TZID=America/Detroit:20240107T010000
DTSTAMP:20260420T141442
CREATED:20240106T174207Z
LAST-MODIFIED:20240106T174207Z
UID:570-1704574800-1704589200@gippersgr.com
SUMMARY:Simply In Time @ Gippers
DESCRIPTION:
URL:https://gippersgr.com/event/simply-in-time-gippers-3/
LOCATION:Gippers Bar & Restaurant\, 2929 Kraft Ave SE\, Grand Rapids\, MI 49512\, Grand Rapids\, MI\, 49512\, United States
CATEGORIES:Band
ATTACH;FMTTYPE=image/jpeg:https://gippersgr.com/wp-content/uploads/2023/03/simply-in-time.jpg
END:VEVENT
BEGIN:VEVENT
DTSTART;TZID=America/Detroit:20231216T210000
DTEND;TZID=America/Detroit:20231217T010000
DTSTAMP:20260420T141442
CREATED:20231107T155504Z
LAST-MODIFIED:20231107T155504Z
UID:560-1702760400-1702774800@gippersgr.com
SUMMARY:Azz-Izz @ Gippers
DESCRIPTION:
URL:https://gippersgr.com/event/azz-izz-gippers-15/
LOCATION:Gippers Bar & Restaurant\, 2929 Kraft Ave SE\, Grand Rapids\, MI 49512\, Grand Rapids\, MI\, 49512\, United States
CATEGORIES:Band
ATTACH;FMTTYPE=image/jpeg:https://gippersgr.com/wp-content/uploads/2022/07/288003801_3380970538817908_7886535415403612316_n.jpg
END:VEVENT
BEGIN:VEVENT
DTSTART;TZID=America/Detroit:20231208T200000
DTEND;TZID=America/Detroit:20231209T000000
DTSTAMP:20260420T141442
CREATED:20231107T155311Z
LAST-MODIFIED:20231107T155311Z
UID:558-1702065600-1702080000@gippersgr.com
SUMMARY:ID10TS @ Gippers
DESCRIPTION:
URL:https://gippersgr.com/event/id10ts-gippers-2/
LOCATION:Gippers Bar & Restaurant\, 2929 Kraft Ave SE\, Grand Rapids\, MI 49512\, Grand Rapids\, MI\, 49512\, United States
CATEGORIES:Band
ATTACH;FMTTYPE=image/jpeg:https://gippersgr.com/wp-content/uploads/2023/03/ID10T5.jpeg
END:VEVENT
BEGIN:VEVENT
DTSTART;TZID=America/Detroit:20231202T210000
DTEND;TZID=America/Detroit:20231203T010000
DTSTAMP:20260420T141442
CREATED:20231107T155209Z
LAST-MODIFIED:20231107T155209Z
UID:556-1701550800-1701565200@gippersgr.com
SUMMARY:Trapped on Mars @ Gippers
DESCRIPTION:
URL:https://gippersgr.com/event/trapped-on-mars-gippers-2/
LOCATION:Gippers Bar & Restaurant\, 2929 Kraft Ave SE\, Grand Rapids\, MI 49512\, Grand Rapids\, MI\, 49512\, United States
CATEGORIES:Band
ATTACH;FMTTYPE=image/jpeg:https://gippersgr.com/wp-content/uploads/2023/10/284268126_5051517384925306_8839186526182829986_n.jpg
END:VEVENT
BEGIN:VEVENT
DTSTART;TZID=America/Detroit:20231201T200000
DTEND;TZID=America/Detroit:20231202T000000
DTSTAMP:20260420T141442
CREATED:20231107T155101Z
LAST-MODIFIED:20231107T155101Z
UID:554-1701460800-1701475200@gippersgr.com
SUMMARY:After Party @ Gippers
DESCRIPTION:
URL:https://gippersgr.com/event/after-party-gippers-2/
LOCATION:Gippers Bar & Restaurant\, 2929 Kraft Ave SE\, Grand Rapids\, MI 49512\, Grand Rapids\, MI\, 49512\, United States
CATEGORIES:Band
ATTACH;FMTTYPE=image/jpeg:https://gippersgr.com/wp-content/uploads/2023/03/after-party.jpg
END:VEVENT
BEGIN:VEVENT
DTSTART;TZID=America/Detroit:20231125T210000
DTEND;TZID=America/Detroit:20231126T010000
DTSTAMP:20260420T141442
CREATED:20231107T154906Z
LAST-MODIFIED:20231107T154906Z
UID:552-1700946000-1700960400@gippersgr.com
SUMMARY:Par-llo Connection @ Gippers
DESCRIPTION:
URL:https://gippersgr.com/event/par-llo-connection-gippers-16/
LOCATION:Gippers Bar & Restaurant\, 2929 Kraft Ave SE\, Grand Rapids\, MI 49512\, Grand Rapids\, MI\, 49512\, United States
CATEGORIES:Band
ATTACH;FMTTYPE=image/jpeg:https://gippersgr.com/wp-content/uploads/2022/07/274086923_1359251291162394_5349018107106833669_n.jpg
END:VEVENT
BEGIN:VEVENT
DTSTART;TZID=America/Detroit:20231123T080000
DTEND;TZID=America/Detroit:20231123T170000
DTSTAMP:20260420T141442
CREATED:20231107T160448Z
LAST-MODIFIED:20231120T151939Z
UID:562-1700726400-1700758800@gippersgr.com
SUMMARY:Thanksgiving Party @ Gippers
DESCRIPTION:Live DJ\, Drink Specials\, Dancing\, and Fun!
URL:https://gippersgr.com/event/thanksgiving-party-gippers/
LOCATION:MI
CATEGORIES:DJ
ATTACH;FMTTYPE=image/png:https://gippersgr.com/wp-content/uploads/2023/11/wepik-gradient-dj-studio-logo-202311071603325MUI.png
END:VEVENT
BEGIN:VEVENT
DTSTART;TZID=America/Detroit:20231118T210000
DTEND;TZID=America/Detroit:20231119T010000
DTSTAMP:20260420T141442
CREATED:20231107T154755Z
LAST-MODIFIED:20231107T154755Z
UID:550-1700341200-1700355600@gippersgr.com
SUMMARY:Azz-Izz @ Gippers
DESCRIPTION:
URL:https://gippersgr.com/event/azz-izz-gippers-14/
LOCATION:Gippers Bar & Restaurant\, 2929 Kraft Ave SE\, Grand Rapids\, MI 49512\, Grand Rapids\, MI\, 49512\, United States
CATEGORIES:Band
ATTACH;FMTTYPE=image/jpeg:https://gippersgr.com/wp-content/uploads/2022/07/288003801_3380970538817908_7886535415403612316_n.jpg
END:VEVENT
BEGIN:VEVENT
DTSTART;TZID=America/Detroit:20231117T200000
DTEND;TZID=America/Detroit:20231118T000000
DTSTAMP:20260420T141442
CREATED:20231107T154421Z
LAST-MODIFIED:20231107T154421Z
UID:548-1700251200-1700265600@gippersgr.com
SUMMARY:Barenaked 90's @ Gippers
DESCRIPTION:
URL:https://gippersgr.com/event/barenaked-90s-gippers-3/
LOCATION:Gippers Bar & Restaurant\, 2929 Kraft Ave SE\, Grand Rapids\, MI 49512\, Grand Rapids\, MI\, 49512\, United States
CATEGORIES:Band
ATTACH;FMTTYPE=image/jpeg:https://gippersgr.com/wp-content/uploads/2023/03/barenaked-90s.jpg
END:VEVENT
BEGIN:VEVENT
DTSTART;TZID=America/Detroit:20231110T200000
DTEND;TZID=America/Detroit:20231111T000000
DTSTAMP:20260420T141442
CREATED:20231107T154119Z
LAST-MODIFIED:20231107T154119Z
UID:546-1699646400-1699660800@gippersgr.com
SUMMARY:ID10T5 @ Gippers
DESCRIPTION:
URL:https://gippersgr.com/event/id10t5-gippers-3/
LOCATION:Gippers Bar & Restaurant\, 2929 Kraft Ave SE\, Grand Rapids\, MI 49512\, Grand Rapids\, MI\, 49512\, United States
CATEGORIES:Band
ATTACH;FMTTYPE=image/jpeg:https://gippersgr.com/wp-content/uploads/2023/03/ID10T5.jpeg
END:VEVENT
BEGIN:VEVENT
DTSTART;TZID=America/Detroit:20231028T210000
DTEND;TZID=America/Detroit:20231029T010000
DTSTAMP:20260420T141442
CREATED:20231004T190713Z
LAST-MODIFIED:20231004T190713Z
UID:541-1698526800-1698541200@gippersgr.com
SUMMARY:Flashback @ Gippers
DESCRIPTION:
URL:https://gippersgr.com/event/flashback-gippers-4/
LOCATION:Gippers Bar & Restaurant\, 2929 Kraft Ave SE\, Grand Rapids\, MI 49512\, Grand Rapids\, MI\, 49512\, United States
CATEGORIES:Band
ATTACH;FMTTYPE=image/jpeg:https://gippersgr.com/wp-content/uploads/2022/09/172640_105478422868337_992973_o.jpg
END:VEVENT
BEGIN:VEVENT
DTSTART;TZID=America/Detroit:20231027T200000
DTEND;TZID=America/Detroit:20231028T000000
DTSTAMP:20260420T141442
CREATED:20231004T190441Z
LAST-MODIFIED:20231004T190441Z
UID:539-1698436800-1698451200@gippersgr.com
SUMMARY:Simply In Time @ Gippers
DESCRIPTION:
URL:https://gippersgr.com/event/simply-in-time-gippers-2/
LOCATION:Gippers Bar & Restaurant\, 2929 Kraft Ave SE\, Grand Rapids\, MI 49512\, Grand Rapids\, MI\, 49512\, United States
CATEGORIES:Band
ATTACH;FMTTYPE=image/jpeg:https://gippersgr.com/wp-content/uploads/2023/03/simply-in-time.jpg
END:VEVENT
END:VCALENDAR