BEGIN:VCALENDAR
VERSION:2.0
PRODID:-//Gippers Bar &amp; Restaurant - ECPv6.15.20//NONSGML v1.0//EN
CALSCALE:GREGORIAN
METHOD:PUBLISH
X-WR-CALNAME:Gippers Bar &amp; Restaurant
X-ORIGINAL-URL:https://gippersgr.com
X-WR-CALDESC:Events for Gippers Bar &amp; Restaurant
REFRESH-INTERVAL;VALUE=DURATION:PT1H
X-Robots-Tag:noindex
X-PUBLISHED-TTL:PT1H
BEGIN:VTIMEZONE
TZID:America/Detroit
BEGIN:DAYLIGHT
TZOFFSETFROM:-0500
TZOFFSETTO:-0400
TZNAME:EDT
DTSTART:20230312T070000
END:DAYLIGHT
BEGIN:STANDARD
TZOFFSETFROM:-0400
TZOFFSETTO:-0500
TZNAME:EST
DTSTART:20231105T060000
END:STANDARD
BEGIN:DAYLIGHT
TZOFFSETFROM:-0500
TZOFFSETTO:-0400
TZNAME:EDT
DTSTART:20240310T070000
END:DAYLIGHT
BEGIN:STANDARD
TZOFFSETFROM:-0400
TZOFFSETTO:-0500
TZNAME:EST
DTSTART:20241103T060000
END:STANDARD
BEGIN:DAYLIGHT
TZOFFSETFROM:-0500
TZOFFSETTO:-0400
TZNAME:EDT
DTSTART:20250309T070000
END:DAYLIGHT
BEGIN:STANDARD
TZOFFSETFROM:-0400
TZOFFSETTO:-0500
TZNAME:EST
DTSTART:20251102T060000
END:STANDARD
BEGIN:DAYLIGHT
TZOFFSETFROM:-0500
TZOFFSETTO:-0400
TZNAME:EDT
DTSTART:20260308T070000
END:DAYLIGHT
BEGIN:STANDARD
TZOFFSETFROM:-0400
TZOFFSETTO:-0500
TZNAME:EST
DTSTART:20261101T060000
END:STANDARD
END:VTIMEZONE
BEGIN:VEVENT
DTSTART;TZID=America/Detroit:20250228T200000
DTEND;TZID=America/Detroit:20250301T000000
DTSTAMP:20260420T104824
CREATED:20250225T155620Z
LAST-MODIFIED:20250225T155620Z
UID:739-1740772800-1740787200@gippersgr.com
SUMMARY:Uncle Klunk @ Gippers
DESCRIPTION:
URL:https://gippersgr.com/event/uncle-klunk-gippers/
LOCATION:Gippers Bar & Restaurant\, 2929 Kraft Ave SE\, Grand Rapids\, MI 49512\, Grand Rapids\, MI\, 49512\, United States
CATEGORIES:Band
ATTACH;FMTTYPE=image/jpeg:https://gippersgr.com/wp-content/uploads/2025/02/475157017_1136522711812059_572386877990148246_n.jpg
END:VEVENT
BEGIN:VEVENT
DTSTART;TZID=America/Detroit:20250222T210000
DTEND;TZID=America/Detroit:20250223T010000
DTSTAMP:20260420T104824
CREATED:20250205T163706Z
LAST-MODIFIED:20250205T163706Z
UID:736-1740258000-1740272400@gippersgr.com
SUMMARY:Par-llo Connection @ Gippers
DESCRIPTION:
URL:https://gippersgr.com/event/par-llo-connection-gippers-26/
LOCATION:Gippers Bar & Restaurant\, 2929 Kraft Ave SE\, Grand Rapids\, MI 49512\, Grand Rapids\, MI\, 49512\, United States
CATEGORIES:Band
ATTACH;FMTTYPE=image/jpeg:https://gippersgr.com/wp-content/uploads/2022/07/274086923_1359251291162394_5349018107106833669_n.jpg
END:VEVENT
BEGIN:VEVENT
DTSTART;TZID=America/Detroit:20250221T200000
DTEND;TZID=America/Detroit:20250222T000000
DTSTAMP:20260420T104824
CREATED:20250205T163605Z
LAST-MODIFIED:20250205T163605Z
UID:734-1740168000-1740182400@gippersgr.com
SUMMARY:Twister @ Gippers
DESCRIPTION:
URL:https://gippersgr.com/event/twister-gippers-3/
LOCATION:Gippers Bar & Restaurant\, 2929 Kraft Ave SE\, Grand Rapids\, MI 49512\, Grand Rapids\, MI\, 49512\, United States
CATEGORIES:Band
ATTACH;FMTTYPE=image/jpeg:https://gippersgr.com/wp-content/uploads/2023/03/twister.jpeg
END:VEVENT
BEGIN:VEVENT
DTSTART;TZID=America/Detroit:20250215T210000
DTEND;TZID=America/Detroit:20250216T010000
DTSTAMP:20260420T104824
CREATED:20250205T163449Z
LAST-MODIFIED:20250205T163449Z
UID:732-1739653200-1739667600@gippersgr.com
SUMMARY:Azz-Izz @ Gippers
DESCRIPTION:
URL:https://gippersgr.com/event/azz-izz-gippers-26/
LOCATION:Gippers Bar & Restaurant\, 2929 Kraft Ave SE\, Grand Rapids\, MI 49512\, Grand Rapids\, MI\, 49512\, United States
CATEGORIES:Band
ATTACH;FMTTYPE=image/jpeg:https://gippersgr.com/wp-content/uploads/2022/07/288003801_3380970538817908_7886535415403612316_n.jpg
END:VEVENT
BEGIN:VEVENT
DTSTART;TZID=America/Detroit:20250207T200000
DTEND;TZID=America/Detroit:20250208T000000
DTSTAMP:20260420T104824
CREATED:20250205T163339Z
LAST-MODIFIED:20250205T163339Z
UID:730-1738958400-1738972800@gippersgr.com
SUMMARY:Barenaked 90's @ Gippers
DESCRIPTION:
URL:https://gippersgr.com/event/barenaked-90s-gippers-7/
LOCATION:Gippers Bar & Restaurant\, 2929 Kraft Ave SE\, Grand Rapids\, MI 49512\, Grand Rapids\, MI\, 49512\, United States
CATEGORIES:Band
ATTACH;FMTTYPE=image/jpeg:https://gippersgr.com/wp-content/uploads/2023/03/barenaked-90s.jpg
END:VEVENT
BEGIN:VEVENT
DTSTART;TZID=America/Detroit:20250203T190000
DTEND;TZID=America/Detroit:20250203T220000
DTSTAMP:20260420T104824
CREATED:20250124T223313Z
LAST-MODIFIED:20250124T223313Z
UID:725-1738609200-1738620000@gippersgr.com
SUMMARY:Sip & Paint @ Gippers
DESCRIPTION:In the Back Bar we will be hosting a Sip and Paint\n$25 includes one of the Lions Gnome Paintings. Along with a complimentary Glass of Wine or a 14 oz Draft or A Bottle of Beer.\nPlease call or stop in to reserve your spot !\n616-551-0841
URL:https://gippersgr.com/event/sip-paint-gippers/
LOCATION:Gippers Bar & Restaurant\, 2929 Kraft Ave SE\, Grand Rapids\, MI 49512\, Grand Rapids\, MI\, 49512\, United States
CATEGORIES:Other
ATTACH;FMTTYPE=image/jpeg:https://gippersgr.com/wp-content/uploads/2025/01/474558500_1334468447516737_7564381414449061128_n.jpg
END:VEVENT
BEGIN:VEVENT
DTSTART;TZID=America/Detroit:20250131T200000
DTEND;TZID=America/Detroit:20250201T000000
DTSTAMP:20260420T104824
CREATED:20250114T194924Z
LAST-MODIFIED:20250114T194924Z
UID:721-1738353600-1738368000@gippersgr.com
SUMMARY:GR Just Us @ Gippers
DESCRIPTION:
URL:https://gippersgr.com/event/gr-just-us-gippers/
LOCATION:Gippers Bar & Restaurant\, 2929 Kraft Ave SE\, Grand Rapids\, MI 49512\, Grand Rapids\, MI\, 49512\, United States
CATEGORIES:Band
ATTACH;FMTTYPE=image/jpeg:https://gippersgr.com/wp-content/uploads/2025/01/426672810_122107075706203951_6750462488171525339_n.jpg
END:VEVENT
BEGIN:VEVENT
DTSTART;TZID=America/Detroit:20250125T210000
DTEND;TZID=America/Detroit:20250126T010000
DTSTAMP:20260420T104824
CREATED:20250114T194732Z
LAST-MODIFIED:20250114T194732Z
UID:719-1737838800-1737853200@gippersgr.com
SUMMARY:Azz-Izz @ Gippers
DESCRIPTION:
URL:https://gippersgr.com/event/azz-izz-gippers-25/
LOCATION:Gippers Bar & Restaurant\, 2929 Kraft Ave SE\, Grand Rapids\, MI 49512\, Grand Rapids\, MI\, 49512\, United States
CATEGORIES:Band
ATTACH;FMTTYPE=image/jpeg:https://gippersgr.com/wp-content/uploads/2021/10/azz-izz.jpeg
END:VEVENT
BEGIN:VEVENT
DTSTART;TZID=America/Detroit:20250124T200000
DTEND;TZID=America/Detroit:20250125T000000
DTSTAMP:20260420T104824
CREATED:20250114T194610Z
LAST-MODIFIED:20250114T194636Z
UID:715-1737748800-1737763200@gippersgr.com
SUMMARY:E11EVEN @ Gippers
DESCRIPTION:
URL:https://gippersgr.com/event/e11even-gippers/
LOCATION:Gippers Bar & Restaurant\, 2929 Kraft Ave SE\, Grand Rapids\, MI 49512\, Grand Rapids\, MI\, 49512\, United States
CATEGORIES:Band
ATTACH;FMTTYPE=image/jpeg:https://gippersgr.com/wp-content/uploads/2025/01/428201834_327234540303995_5532904026860043946_n.jpg
END:VEVENT
BEGIN:VEVENT
DTSTART;TZID=America/Detroit:20250118T210000
DTEND;TZID=America/Detroit:20250119T010000
DTSTAMP:20260420T104824
CREATED:20250114T194237Z
LAST-MODIFIED:20250114T194237Z
UID:712-1737234000-1737248400@gippersgr.com
SUMMARY:Decades @ Gippers
DESCRIPTION:
URL:https://gippersgr.com/event/decades-gippers/
LOCATION:Gippers Bar & Restaurant\, 2929 Kraft Ave SE\, Grand Rapids\, MI 49512\, Grand Rapids\, MI\, 49512\, United States
CATEGORIES:Band
ATTACH;FMTTYPE=image/jpeg:https://gippersgr.com/wp-content/uploads/2025/01/452140617_1009151124553615_9112769635908966131_n.jpg
END:VEVENT
BEGIN:VEVENT
DTSTART;TZID=America/Detroit:20250117T200000
DTEND;TZID=America/Detroit:20250118T000000
DTSTAMP:20260420T104824
CREATED:20250114T193611Z
LAST-MODIFIED:20250114T193611Z
UID:709-1737144000-1737158400@gippersgr.com
SUMMARY:Funkle Jessie @ Gippers
DESCRIPTION:
URL:https://gippersgr.com/event/funkle-jessie-gippers/
LOCATION:Gippers Bar & Restaurant\, 2929 Kraft Ave SE\, Grand Rapids\, MI 49512\, Grand Rapids\, MI\, 49512\, United States
CATEGORIES:Band
ATTACH;FMTTYPE=image/png:https://gippersgr.com/wp-content/uploads/2025/01/58663969_2284327221613709_5486959340709478400_n.png
END:VEVENT
BEGIN:VEVENT
DTSTART;TZID=America/Detroit:20241123T210000
DTEND;TZID=America/Detroit:20241124T010000
DTSTAMP:20260420T104824
CREATED:20241106T170921Z
LAST-MODIFIED:20241106T170921Z
UID:706-1732395600-1732410000@gippersgr.com
SUMMARY:Par-llo Connection @ Gippers
DESCRIPTION:
URL:https://gippersgr.com/event/par-llo-connection-gippers-25/
LOCATION:Gippers Bar & Restaurant\, 2929 Kraft Ave SE\, Grand Rapids\, MI 49512\, Grand Rapids\, MI\, 49512\, United States
CATEGORIES:Band
ATTACH;FMTTYPE=image/jpeg:https://gippersgr.com/wp-content/uploads/2022/07/274086923_1359251291162394_5349018107106833669_n.jpg
END:VEVENT
BEGIN:VEVENT
DTSTART;TZID=America/Detroit:20241108T200000
DTEND;TZID=America/Detroit:20241109T000000
DTSTAMP:20260420T104824
CREATED:20241106T170818Z
LAST-MODIFIED:20241106T170818Z
UID:704-1731096000-1731110400@gippersgr.com
SUMMARY:Twister @ Gippers
DESCRIPTION:
URL:https://gippersgr.com/event/twister-gippers-2/
LOCATION:Gippers Bar & Restaurant\, 2929 Kraft Ave SE\, Grand Rapids\, MI 49512\, Grand Rapids\, MI\, 49512\, United States
CATEGORIES:Band
ATTACH;FMTTYPE=image/jpeg:https://gippersgr.com/wp-content/uploads/2023/03/twister.jpeg
END:VEVENT
BEGIN:VEVENT
DTSTART;TZID=America/Detroit:20241026T210000
DTEND;TZID=America/Detroit:20241027T010000
DTSTAMP:20260420T104824
CREATED:20241015T163702Z
LAST-MODIFIED:20241015T163702Z
UID:697-1729976400-1729990800@gippersgr.com
SUMMARY:Flashback @ Gippers
DESCRIPTION:
URL:https://gippersgr.com/event/flashback-gippers-7/
LOCATION:Gippers Bar & Restaurant\, 2929 Kraft Ave SE\, Grand Rapids\, MI 49512\, Grand Rapids\, MI\, 49512\, United States
CATEGORIES:Band
ATTACH;FMTTYPE=image/jpeg:https://gippersgr.com/wp-content/uploads/2022/09/172640_105478422868337_992973_o.jpg
END:VEVENT
BEGIN:VEVENT
DTSTART;TZID=America/Detroit:20241025T200000
DTEND;TZID=America/Detroit:20241025T230000
DTSTAMP:20260420T104824
CREATED:20241015T163825Z
LAST-MODIFIED:20241015T163825Z
UID:699-1729886400-1729897200@gippersgr.com
SUMMARY:Halloween Scaryoke @ Gippers
DESCRIPTION:
URL:https://gippersgr.com/event/halloween-scaryoke-gippers/
LOCATION:Gippers Bar & Restaurant\, 2929 Kraft Ave SE\, Grand Rapids\, MI 49512\, Grand Rapids\, MI\, 49512\, United States
CATEGORIES:Karaoke
ATTACH;FMTTYPE=image/jpeg:https://gippersgr.com/wp-content/uploads/2024/10/gippers-scaryoke.jpg
END:VEVENT
BEGIN:VEVENT
DTSTART;TZID=America/Detroit:20241019T210000
DTEND;TZID=America/Detroit:20241020T010000
DTSTAMP:20260420T104824
CREATED:20241015T163546Z
LAST-MODIFIED:20241015T163546Z
UID:695-1729371600-1729386000@gippersgr.com
SUMMARY:Par-llo Connection @ Gippers
DESCRIPTION:
URL:https://gippersgr.com/event/par-llo-connection-gippers-24/
LOCATION:Gippers Bar & Restaurant\, 2929 Kraft Ave SE\, Grand Rapids\, MI 49512\, Grand Rapids\, MI\, 49512\, United States
CATEGORIES:Band
ATTACH;FMTTYPE=image/jpeg:https://gippersgr.com/wp-content/uploads/2022/07/274086923_1359251291162394_5349018107106833669_n.jpg
END:VEVENT
BEGIN:VEVENT
DTSTART;TZID=America/Detroit:20240928T210000
DTEND;TZID=America/Detroit:20240929T010000
DTSTAMP:20260420T104824
CREATED:20240903T173704Z
LAST-MODIFIED:20240903T173704Z
UID:685-1727557200-1727571600@gippersgr.com
SUMMARY:Par-llo Connection @ Gippers
DESCRIPTION:
URL:https://gippersgr.com/event/par-llo-connection-gippers-23/
LOCATION:Gippers Bar & Restaurant\, 2929 Kraft Ave SE\, Grand Rapids\, MI 49512\, Grand Rapids\, MI\, 49512\, United States
CATEGORIES:Band
ATTACH;FMTTYPE=image/jpeg:https://gippersgr.com/wp-content/uploads/2022/07/274086923_1359251291162394_5349018107106833669_n.jpg
END:VEVENT
BEGIN:VEVENT
DTSTART;TZID=America/Detroit:20240921T210000
DTEND;TZID=America/Detroit:20240922T010000
DTSTAMP:20260420T104824
CREATED:20240916T130218Z
LAST-MODIFIED:20240916T130218Z
UID:689-1726952400-1726966800@gippersgr.com
SUMMARY:That 80's Rock Show @ Gippers
DESCRIPTION:
URL:https://gippersgr.com/event/that-80s-rock-show-gippers/
LOCATION:Gippers Bar & Restaurant\, 2929 Kraft Ave SE\, Grand Rapids\, MI 49512\, Grand Rapids\, MI\, 49512\, United States
CATEGORIES:Band
ATTACH;FMTTYPE=image/jpeg:https://gippersgr.com/wp-content/uploads/2024/09/458738039_122111987294469909_5127827560078927995_n.jpg
END:VEVENT
BEGIN:VEVENT
DTSTART;TZID=America/Detroit:20240920T200000
DTEND;TZID=America/Detroit:20240921T000000
DTSTAMP:20260420T104824
CREATED:20240903T173557Z
LAST-MODIFIED:20240903T173557Z
UID:683-1726862400-1726876800@gippersgr.com
SUMMARY:Flashback @ Gippers
DESCRIPTION:
URL:https://gippersgr.com/event/flashback-gippers-6/
LOCATION:Gippers Bar & Restaurant\, 2929 Kraft Ave SE\, Grand Rapids\, MI 49512\, Grand Rapids\, MI\, 49512\, United States
CATEGORIES:Band
ATTACH;FMTTYPE=image/jpeg:https://gippersgr.com/wp-content/uploads/2022/09/172640_105478422868337_992973_o.jpg
END:VEVENT
BEGIN:VEVENT
DTSTART;TZID=America/Detroit:20240913T200000
DTEND;TZID=America/Detroit:20240914T000000
DTSTAMP:20260420T104824
CREATED:20240903T173500Z
LAST-MODIFIED:20240903T173500Z
UID:681-1726257600-1726272000@gippersgr.com
SUMMARY:Azz-Izz @ Gippers
DESCRIPTION:
URL:https://gippersgr.com/event/azz-izz-gippers-24/
LOCATION:Gippers Bar & Restaurant\, 2929 Kraft Ave SE\, Grand Rapids\, MI 49512\, Grand Rapids\, MI\, 49512\, United States
CATEGORIES:Band
ATTACH;FMTTYPE=image/jpeg:https://gippersgr.com/wp-content/uploads/2022/07/288003801_3380970538817908_7886535415403612316_n.jpg
END:VEVENT
BEGIN:VEVENT
DTSTART;TZID=America/Detroit:20240907T210000
DTEND;TZID=America/Detroit:20240908T010000
DTSTAMP:20260420T104824
CREATED:20240903T173411Z
LAST-MODIFIED:20240903T173411Z
UID:679-1725742800-1725757200@gippersgr.com
SUMMARY:Hot Sauce @ Gippers
DESCRIPTION:
URL:https://gippersgr.com/event/hot-sauce-gippers-2/
LOCATION:Gippers Bar & Restaurant\, 2929 Kraft Ave SE\, Grand Rapids\, MI 49512\, Grand Rapids\, MI\, 49512\, United States
CATEGORIES:Band
ATTACH;FMTTYPE=image/jpeg:https://gippersgr.com/wp-content/uploads/2022/07/289007305_10218494881877914_7907939122123008029_n.jpeg
END:VEVENT
BEGIN:VEVENT
DTSTART;TZID=America/Detroit:20240906T200000
DTEND;TZID=America/Detroit:20240907T000000
DTSTAMP:20260420T104824
CREATED:20240903T173313Z
LAST-MODIFIED:20240903T173313Z
UID:677-1725652800-1725667200@gippersgr.com
SUMMARY:Barenaked 90's @ Gippers
DESCRIPTION:
URL:https://gippersgr.com/event/barenaked-90s-gippers-6/
LOCATION:Gippers Bar & Restaurant\, 2929 Kraft Ave SE\, Grand Rapids\, MI 49512\, Grand Rapids\, MI\, 49512\, United States
CATEGORIES:Band
ATTACH;FMTTYPE=image/jpeg:https://gippersgr.com/wp-content/uploads/2023/03/barenaked-90s.jpg
END:VEVENT
BEGIN:VEVENT
DTSTART;TZID=America/Detroit:20240825T140000
DTEND;TZID=America/Detroit:20240825T180000
DTSTAMP:20260420T104824
CREATED:20240802T211738Z
LAST-MODIFIED:20240802T211738Z
UID:668-1724594400-1724608800@gippersgr.com
SUMMARY:PuffinDown @ Gippers Bike Daze
DESCRIPTION:
URL:https://gippersgr.com/event/puffindown-gippers-bike-daze/
LOCATION:Gippers Bar & Restaurant\, 2929 Kraft Ave SE\, Grand Rapids\, MI 49512\, Grand Rapids\, MI\, 49512\, United States
ATTACH;FMTTYPE=image/jpeg:https://gippersgr.com/wp-content/uploads/2024/08/315640483_146337301479671_3467092466851992070_n.jpg
END:VEVENT
BEGIN:VEVENT
DTSTART;TZID=America/Detroit:20240824T210000
DTEND;TZID=America/Detroit:20240825T010000
DTSTAMP:20260420T104824
CREATED:20240802T211952Z
LAST-MODIFIED:20240802T211952Z
UID:672-1724533200-1724547600@gippersgr.com
SUMMARY:Azz-Izz @ Gippers
DESCRIPTION:
URL:https://gippersgr.com/event/azz-izz-gippers-23/
LOCATION:Gippers Bar & Restaurant\, 2929 Kraft Ave SE\, Grand Rapids\, MI 49512\, Grand Rapids\, MI\, 49512\, United States
CATEGORIES:Band
ATTACH;FMTTYPE=image/jpeg:https://gippersgr.com/wp-content/uploads/2022/07/288003801_3380970538817908_7886535415403612316_n.jpg
END:VEVENT
BEGIN:VEVENT
DTSTART;TZID=America/Detroit:20240818T140000
DTEND;TZID=America/Detroit:20240818T180000
DTSTAMP:20260420T104824
CREATED:20240802T211603Z
LAST-MODIFIED:20240802T211603Z
UID:666-1723989600-1724004000@gippersgr.com
SUMMARY:Pice Project @ Gippers Bike Daze
DESCRIPTION:
URL:https://gippersgr.com/event/pice-project-gippers-bike-daze-2/
LOCATION:Gippers Bar & Restaurant\, 2929 Kraft Ave SE\, Grand Rapids\, MI 49512\, Grand Rapids\, MI\, 49512\, United States
CATEGORIES:Band
ATTACH;FMTTYPE=image/jpeg:https://gippersgr.com/wp-content/uploads/2023/01/289250367_3763965403727726_622261606002670498_n.jpg
END:VEVENT
BEGIN:VEVENT
DTSTART;TZID=America/Detroit:20240811T140000
DTEND;TZID=America/Detroit:20240811T180000
DTSTAMP:20260420T104824
CREATED:20240802T211436Z
LAST-MODIFIED:20240802T211436Z
UID:664-1723384800-1723399200@gippersgr.com
SUMMARY:ID10T5 @ Gippers Bike Daze
DESCRIPTION:
URL:https://gippersgr.com/event/id10t5-gippers-bike-daze/
LOCATION:Gippers Bar & Restaurant\, 2929 Kraft Ave SE\, Grand Rapids\, MI 49512\, Grand Rapids\, MI\, 49512\, United States
CATEGORIES:Band
ATTACH;FMTTYPE=image/jpeg:https://gippersgr.com/wp-content/uploads/2023/03/ID10T5.jpeg
END:VEVENT
BEGIN:VEVENT
DTSTART;TZID=America/Detroit:20240804T140000
DTEND;TZID=America/Detroit:20240804T180000
DTSTAMP:20260420T104824
CREATED:20240802T211343Z
LAST-MODIFIED:20240802T211816Z
UID:662-1722780000-1722794400@gippersgr.com
SUMMARY:Mike Naughton @ Gippers Bike Daze
DESCRIPTION:
URL:https://gippersgr.com/event/mike-naughton-gippers-bike-daze/
LOCATION:Gippers Bar & Restaurant\, 2929 Kraft Ave SE\, Grand Rapids\, MI 49512\, Grand Rapids\, MI\, 49512\, United States
CATEGORIES:Band
ATTACH;FMTTYPE=image/jpeg:https://gippersgr.com/wp-content/uploads/2024/08/mike-naughton-2.jpg
END:VEVENT
BEGIN:VEVENT
DTSTART;TZID=America/Detroit:20240728T140000
DTEND;TZID=America/Detroit:20240728T180000
DTSTAMP:20260420T104824
CREATED:20240719T153734Z
LAST-MODIFIED:20240719T153734Z
UID:658-1722175200-1722189600@gippersgr.com
SUMMARY:Forged In Blue @ Gippers Bike Daze
DESCRIPTION:
URL:https://gippersgr.com/event/forged-in-blue-gippers-bike-daze/
LOCATION:Gippers Bar & Restaurant\, 2929 Kraft Ave SE\, Grand Rapids\, MI 49512\, Grand Rapids\, MI\, 49512\, United States
CATEGORIES:Band
ATTACH;FMTTYPE=image/jpeg:https://gippersgr.com/wp-content/uploads/2024/07/forged-in-blue.jpg
END:VEVENT
BEGIN:VEVENT
DTSTART;TZID=America/Detroit:20240727T210000
DTEND;TZID=America/Detroit:20240728T000000
DTSTAMP:20260420T104824
CREATED:20240709T190419Z
LAST-MODIFIED:20240709T190419Z
UID:648-1722114000-1722124800@gippersgr.com
SUMMARY:Par-llo Connection @ Gippers
DESCRIPTION:
URL:https://gippersgr.com/event/par-llo-connection-gippers-22/
LOCATION:Gippers Bar & Restaurant\, 2929 Kraft Ave SE\, Grand Rapids\, MI 49512\, Grand Rapids\, MI\, 49512\, United States
CATEGORIES:Band
ATTACH;FMTTYPE=image/jpeg:https://gippersgr.com/wp-content/uploads/2022/07/274086923_1359251291162394_5349018107106833669_n.jpg
END:VEVENT
BEGIN:VEVENT
DTSTART;TZID=America/Detroit:20240721T140000
DTEND;TZID=America/Detroit:20240721T180000
DTSTAMP:20260420T104824
CREATED:20240719T153214Z
LAST-MODIFIED:20240719T153214Z
UID:656-1721570400-1721584800@gippersgr.com
SUMMARY:Pice Project @ Gippers Bike Daze
DESCRIPTION:
URL:https://gippersgr.com/event/pice-project-gippers-bike-daze/
LOCATION:Gippers Bar & Restaurant\, 2929 Kraft Ave SE\, Grand Rapids\, MI 49512\, Grand Rapids\, MI\, 49512\, United States
CATEGORIES:Band
ATTACH;FMTTYPE=image/jpeg:https://gippersgr.com/wp-content/uploads/2023/01/289250367_3763965403727726_622261606002670498_n.jpg
END:VEVENT
END:VCALENDAR