BEGIN:VCALENDAR
VERSION:2.0
PRODID:-//Gippers Bar &amp; Restaurant - ECPv6.15.20//NONSGML v1.0//EN
CALSCALE:GREGORIAN
METHOD:PUBLISH
X-WR-CALNAME:Gippers Bar &amp; Restaurant
X-ORIGINAL-URL:https://gippersgr.com
X-WR-CALDESC:Events for Gippers Bar &amp; Restaurant
REFRESH-INTERVAL;VALUE=DURATION:PT1H
X-Robots-Tag:noindex
X-PUBLISHED-TTL:PT1H
BEGIN:VTIMEZONE
TZID:America/Detroit
BEGIN:DAYLIGHT
TZOFFSETFROM:-0500
TZOFFSETTO:-0400
TZNAME:EDT
DTSTART:20210314T070000
END:DAYLIGHT
BEGIN:STANDARD
TZOFFSETFROM:-0400
TZOFFSETTO:-0500
TZNAME:EST
DTSTART:20211107T060000
END:STANDARD
BEGIN:DAYLIGHT
TZOFFSETFROM:-0500
TZOFFSETTO:-0400
TZNAME:EDT
DTSTART:20220313T070000
END:DAYLIGHT
BEGIN:STANDARD
TZOFFSETFROM:-0400
TZOFFSETTO:-0500
TZNAME:EST
DTSTART:20221106T060000
END:STANDARD
BEGIN:DAYLIGHT
TZOFFSETFROM:-0500
TZOFFSETTO:-0400
TZNAME:EDT
DTSTART:20230312T070000
END:DAYLIGHT
BEGIN:STANDARD
TZOFFSETFROM:-0400
TZOFFSETTO:-0500
TZNAME:EST
DTSTART:20231105T060000
END:STANDARD
BEGIN:DAYLIGHT
TZOFFSETFROM:-0500
TZOFFSETTO:-0400
TZNAME:EDT
DTSTART:20240310T070000
END:DAYLIGHT
BEGIN:STANDARD
TZOFFSETFROM:-0400
TZOFFSETTO:-0500
TZNAME:EST
DTSTART:20241103T060000
END:STANDARD
END:VTIMEZONE
BEGIN:VEVENT
DTSTART;TZID=America/Detroit:20230527T210000
DTEND;TZID=America/Detroit:20230528T000000
DTSTAMP:20260420T210228
CREATED:20230505T172722Z
LAST-MODIFIED:20230505T172722Z
UID:483-1685221200-1685232000@gippersgr.com
SUMMARY:Par-llo Connection @ Gippers
DESCRIPTION:
URL:https://gippersgr.com/event/par-llo-connection-gippers-11/
LOCATION:Gippers Bar & Restaurant\, 2929 Kraft Ave SE\, Grand Rapids\, MI 49512\, Grand Rapids\, MI\, 49512\, United States
CATEGORIES:Band
ATTACH;FMTTYPE=image/jpeg:https://gippersgr.com/wp-content/uploads/2022/07/274086923_1359251291162394_5349018107106833669_n.jpg
END:VEVENT
BEGIN:VEVENT
DTSTART;TZID=America/Detroit:20230520T210000
DTEND;TZID=America/Detroit:20230521T000000
DTSTAMP:20260420T210228
CREATED:20230505T172222Z
LAST-MODIFIED:20230505T172413Z
UID:480-1684616400-1684627200@gippersgr.com
SUMMARY:Azz-Izz @ Gippers
DESCRIPTION:
URL:https://gippersgr.com/event/azz-izz-gippers-10/
LOCATION:Gippers Bar & Restaurant\, 2929 Kraft Ave SE\, Grand Rapids\, MI 49512\, Grand Rapids\, MI\, 49512\, United States
CATEGORIES:Band
ATTACH;FMTTYPE=image/jpeg:https://gippersgr.com/wp-content/uploads/2022/07/288003801_3380970538817908_7886535415403612316_n.jpg
END:VEVENT
BEGIN:VEVENT
DTSTART;TZID=America/Detroit:20230519T200000
DTEND;TZID=America/Detroit:20230520T000000
DTSTAMP:20260420T210228
CREATED:20230505T172001Z
LAST-MODIFIED:20230507T002300Z
UID:477-1684526400-1684540800@gippersgr.com
SUMMARY:Band Meets World @ Gippers
DESCRIPTION:
URL:https://gippersgr.com/event/band-meets-world-gippers/
LOCATION:Gippers Bar & Restaurant\, 2929 Kraft Ave SE\, Grand Rapids\, MI 49512\, Grand Rapids\, MI\, 49512\, United States
CATEGORIES:Band
ATTACH;FMTTYPE=image/jpeg:https://gippersgr.com/wp-content/uploads/2023/05/band-meets-world.jpeg
END:VEVENT
BEGIN:VEVENT
DTSTART;TZID=America/Detroit:20230512T200000
DTEND;TZID=America/Detroit:20230513T000000
DTSTAMP:20260420T210228
CREATED:20230505T171726Z
LAST-MODIFIED:20230507T002403Z
UID:475-1683921600-1683936000@gippersgr.com
SUMMARY:Flashback @ Gippers
DESCRIPTION:
URL:https://gippersgr.com/event/flashback-gippers-2/
LOCATION:Gippers Bar & Restaurant\, 2929 Kraft Ave SE\, Grand Rapids\, MI 49512\, Grand Rapids\, MI\, 49512\, United States
CATEGORIES:Band
ATTACH;FMTTYPE=image/jpeg:https://gippersgr.com/wp-content/uploads/2022/09/172640_105478422868337_992973_o.jpg
END:VEVENT
BEGIN:VEVENT
DTSTART;TZID=America/Detroit:20230506T210000
DTEND;TZID=America/Detroit:20230507T000000
DTSTAMP:20260420T210228
CREATED:20230505T171404Z
LAST-MODIFIED:20230505T171404Z
UID:473-1683406800-1683417600@gippersgr.com
SUMMARY:The New Hot Sauce Express @ Gippers
DESCRIPTION:
URL:https://gippersgr.com/event/the-new-hot-sauce-express-gippers-3/
LOCATION:Gippers Bar & Restaurant\, 2929 Kraft Ave SE\, Grand Rapids\, MI 49512\, Grand Rapids\, MI\, 49512\, United States
CATEGORIES:Band
ATTACH;FMTTYPE=image/jpeg:https://gippersgr.com/wp-content/uploads/2022/07/289007305_10218494881877914_7907939122123008029_n.jpeg
END:VEVENT
BEGIN:VEVENT
DTSTART;TZID=America/Detroit:20230505T200000
DTEND;TZID=America/Detroit:20230506T000000
DTSTAMP:20260420T210228
CREATED:20230328T185520Z
LAST-MODIFIED:20230328T185520Z
UID:467-1683316800-1683331200@gippersgr.com
SUMMARY:Barenaked 90's @ Gippers
DESCRIPTION:
URL:https://gippersgr.com/event/barenaked-90s-gippers-2/
LOCATION:Gippers Bar & Restaurant\, 2929 Kraft Ave SE\, Grand Rapids\, MI 49512\, Grand Rapids\, MI\, 49512\, United States
CATEGORIES:Band
ATTACH;FMTTYPE=image/jpeg:https://gippersgr.com/wp-content/uploads/2023/03/barenaked-90s.jpg
END:VEVENT
BEGIN:VEVENT
DTSTART;TZID=America/Detroit:20230429T200000
DTEND;TZID=America/Detroit:20230430T000000
DTSTAMP:20260420T210228
CREATED:20230328T184718Z
LAST-MODIFIED:20230328T184718Z
UID:464-1682798400-1682812800@gippersgr.com
SUMMARY:After Party @ Gippers
DESCRIPTION:
URL:https://gippersgr.com/event/after-party-gippers/
LOCATION:Gippers Bar & Restaurant\, 2929 Kraft Ave SE\, Grand Rapids\, MI 49512\, Grand Rapids\, MI\, 49512\, United States
CATEGORIES:Band
ATTACH;FMTTYPE=image/jpeg:https://gippersgr.com/wp-content/uploads/2023/03/after-party.jpg
END:VEVENT
BEGIN:VEVENT
DTSTART;TZID=America/Detroit:20230428T200000
DTEND;TZID=America/Detroit:20230429T000000
DTSTAMP:20260420T210228
CREATED:20230328T182653Z
LAST-MODIFIED:20230328T184241Z
UID:460-1682712000-1682726400@gippersgr.com
SUMMARY:ID10T5 @ Gippers
DESCRIPTION:
URL:https://gippersgr.com/event/id10t5-gippers/
LOCATION:Gippers Bar & Restaurant\, 2929 Kraft Ave SE\, Grand Rapids\, MI 49512\, Grand Rapids\, MI\, 49512\, United States
CATEGORIES:Band
ATTACH;FMTTYPE=image/jpeg:https://gippersgr.com/wp-content/uploads/2023/03/ID10T5.jpeg
END:VEVENT
BEGIN:VEVENT
DTSTART;TZID=America/Detroit:20230422T200000
DTEND;TZID=America/Detroit:20230423T000000
DTSTAMP:20260420T210228
CREATED:20230330T012600Z
LAST-MODIFIED:20230330T012600Z
UID:470-1682193600-1682208000@gippersgr.com
SUMMARY:Par-llo Connection @ Gippers
DESCRIPTION:
URL:https://gippersgr.com/event/par-llo-connection-gippers-10/
LOCATION:Gippers Bar & Restaurant\, 2929 Kraft Ave SE\, Grand Rapids\, MI 49512\, Grand Rapids\, MI\, 49512\, United States
CATEGORIES:Band
ATTACH;FMTTYPE=image/jpeg:https://gippersgr.com/wp-content/uploads/2022/07/274086923_1359251291162394_5349018107106833669_n.jpg
END:VEVENT
BEGIN:VEVENT
DTSTART;TZID=America/Detroit:20230421T200000
DTEND;TZID=America/Detroit:20230422T000000
DTSTAMP:20260420T210228
CREATED:20230328T181900Z
LAST-MODIFIED:20230328T184245Z
UID:454-1682107200-1682121600@gippersgr.com
SUMMARY:Simply In Time @ Gippers
DESCRIPTION:
URL:https://gippersgr.com/event/simply-in-time-gippers/
LOCATION:Gippers Bar & Restaurant\, 2929 Kraft Ave SE\, Grand Rapids\, MI 49512\, Grand Rapids\, MI\, 49512\, United States
CATEGORIES:Band
ATTACH;FMTTYPE=image/jpeg:https://gippersgr.com/wp-content/uploads/2023/03/simply-in-time.jpg
END:VEVENT
BEGIN:VEVENT
DTSTART;TZID=America/Detroit:20230415T200000
DTEND;TZID=America/Detroit:20230416T000000
DTSTAMP:20260420T210228
CREATED:20230328T181244Z
LAST-MODIFIED:20230328T181302Z
UID:452-1681588800-1681603200@gippersgr.com
SUMMARY:Azz-Izz @ Gippers
DESCRIPTION:
URL:https://gippersgr.com/event/azz-izz-gippers-9/
LOCATION:Gippers Bar & Restaurant\, 2929 Kraft Ave SE\, Grand Rapids\, MI 49512\, Grand Rapids\, MI\, 49512\, United States
ATTACH;FMTTYPE=image/jpeg:https://gippersgr.com/wp-content/uploads/2022/07/288003801_3380970538817908_7886535415403612316_n.jpg
END:VEVENT
BEGIN:VEVENT
DTSTART;TZID=America/Detroit:20230401T200000
DTEND;TZID=America/Detroit:20230402T000000
DTSTAMP:20260420T210228
CREATED:20230328T181147Z
LAST-MODIFIED:20230328T181147Z
UID:450-1680379200-1680393600@gippersgr.com
SUMMARY:The New Hot Sauce Express @ Gippers
DESCRIPTION:
URL:https://gippersgr.com/event/the-new-hot-sauce-express-gippers-2/
LOCATION:Gippers Bar & Restaurant\, 2929 Kraft Ave SE\, Grand Rapids\, MI 49512\, Grand Rapids\, MI\, 49512\, United States
ATTACH;FMTTYPE=image/jpeg:https://gippersgr.com/wp-content/uploads/2022/07/289007305_10218494881877914_7907939122123008029_n.jpeg
END:VEVENT
BEGIN:VEVENT
DTSTART;TZID=America/Detroit:20230331T200000
DTEND;TZID=America/Detroit:20230401T000000
DTSTAMP:20260420T210228
CREATED:20230328T180948Z
LAST-MODIFIED:20230328T180959Z
UID:446-1680292800-1680307200@gippersgr.com
SUMMARY:Twister @ Gippers
DESCRIPTION:
URL:https://gippersgr.com/event/twister-gippers/
LOCATION:Gippers Bar & Restaurant\, 2929 Kraft Ave SE\, Grand Rapids\, MI 49512\, Grand Rapids\, MI\, 49512\, United States
ATTACH;FMTTYPE=image/jpeg:https://gippersgr.com/wp-content/uploads/2023/03/twister.jpeg
END:VEVENT
BEGIN:VEVENT
DTSTART;TZID=America/Detroit:20230225T200000
DTEND;TZID=America/Detroit:20230226T000000
DTSTAMP:20260420T210228
CREATED:20230114T172008Z
LAST-MODIFIED:20230114T172008Z
UID:432-1677355200-1677369600@gippersgr.com
SUMMARY:Hot Sauce Express @ Gippers
DESCRIPTION:
URL:https://gippersgr.com/event/hot-sauce-express-gippers-4/
LOCATION:Gippers Bar & Restaurant\, 2929 Kraft Ave SE\, Grand Rapids\, MI 49512\, Grand Rapids\, MI\, 49512\, United States
CATEGORIES:Band
ATTACH;FMTTYPE=image/jpeg:https://gippersgr.com/wp-content/uploads/2022/07/289007305_10218494881877914_7907939122123008029_n.jpeg
END:VEVENT
BEGIN:VEVENT
DTSTART;TZID=America/Detroit:20230224T200000
DTEND;TZID=America/Detroit:20230225T000000
DTSTAMP:20260420T210228
CREATED:20230114T171906Z
LAST-MODIFIED:20230114T171906Z
UID:428-1677268800-1677283200@gippersgr.com
SUMMARY:Pice Project @ Gippers
DESCRIPTION:
URL:https://gippersgr.com/event/pice-project-gippers/
LOCATION:Gippers Bar & Restaurant\, 2929 Kraft Ave SE\, Grand Rapids\, MI 49512\, Grand Rapids\, MI\, 49512\, United States
CATEGORIES:Band
ATTACH;FMTTYPE=image/jpeg:https://gippersgr.com/wp-content/uploads/2023/01/289250367_3763965403727726_622261606002670498_n.jpg
END:VEVENT
BEGIN:VEVENT
DTSTART;TZID=America/Detroit:20230218T200000
DTEND;TZID=America/Detroit:20230219T000000
DTSTAMP:20260420T210228
CREATED:20230114T171722Z
LAST-MODIFIED:20230114T171722Z
UID:426-1676750400-1676764800@gippersgr.com
SUMMARY:Azz-Izz @ Gippers
DESCRIPTION:
URL:https://gippersgr.com/event/azz-izz-gippers-8/
LOCATION:Gippers Bar & Restaurant\, 2929 Kraft Ave SE\, Grand Rapids\, MI 49512\, Grand Rapids\, MI\, 49512\, United States
CATEGORIES:Band
ATTACH;FMTTYPE=image/jpeg:https://gippersgr.com/wp-content/uploads/2022/07/288003801_3380970538817908_7886535415403612316_n.jpg
END:VEVENT
BEGIN:VEVENT
DTSTART;TZID=America/Detroit:20230217T200000
DTEND;TZID=America/Detroit:20230218T000000
DTSTAMP:20260420T210228
CREATED:20230114T171604Z
LAST-MODIFIED:20230114T171604Z
UID:423-1676664000-1676678400@gippersgr.com
SUMMARY:Forged In Blue @ Gippers
DESCRIPTION:
URL:https://gippersgr.com/event/forged-in-blue-gippers/
LOCATION:Gippers Bar & Restaurant\, 2929 Kraft Ave SE\, Grand Rapids\, MI 49512\, Grand Rapids\, MI\, 49512\, United States
CATEGORIES:Band
ATTACH;FMTTYPE=image/jpeg:https://gippersgr.com/wp-content/uploads/2023/01/302153994_612046117135112_8929040592599483284_n.jpeg
END:VEVENT
BEGIN:VEVENT
DTSTART;TZID=America/Detroit:20230204T200000
DTEND;TZID=America/Detroit:20230205T000000
DTSTAMP:20260420T210228
CREATED:20230114T171428Z
LAST-MODIFIED:20230114T171428Z
UID:420-1675540800-1675555200@gippersgr.com
SUMMARY:Par-llo Connection Band @ Gippers
DESCRIPTION:
URL:https://gippersgr.com/event/par-llo-connection-band-gippers/
LOCATION:Gippers Bar & Restaurant\, 2929 Kraft Ave SE\, Grand Rapids\, MI 49512\, Grand Rapids\, MI\, 49512\, United States
CATEGORIES:Band
ATTACH;FMTTYPE=image/jpeg:https://gippersgr.com/wp-content/uploads/2022/07/274086923_1359251291162394_5349018107106833669_n.jpg
END:VEVENT
BEGIN:VEVENT
DTSTART;TZID=America/Detroit:20230128T200000
DTEND;TZID=America/Detroit:20230129T000000
DTSTAMP:20260420T210228
CREATED:20230114T171029Z
LAST-MODIFIED:20230114T171029Z
UID:418-1674936000-1674950400@gippersgr.com
SUMMARY:Hot Sauce Express @ Gippers
DESCRIPTION:
URL:https://gippersgr.com/event/hot-sauce-express-gippers-3/
LOCATION:Gippers Bar & Restaurant\, 2929 Kraft Ave SE\, Grand Rapids\, MI 49512\, Grand Rapids\, MI\, 49512\, United States
CATEGORIES:Band
ATTACH;FMTTYPE=image/jpeg:https://gippersgr.com/wp-content/uploads/2022/07/289007305_10218494881877914_7907939122123008029_n.jpeg
END:VEVENT
BEGIN:VEVENT
DTSTART;TZID=America/Detroit:20230127T200000
DTEND;TZID=America/Detroit:20230128T000000
DTSTAMP:20260420T210228
CREATED:20230114T170821Z
LAST-MODIFIED:20230114T170821Z
UID:415-1674849600-1674864000@gippersgr.com
SUMMARY:The NXT @ Gippers
DESCRIPTION:
URL:https://gippersgr.com/event/the-nxt-gippers/
LOCATION:Gippers Bar & Restaurant\, 2929 Kraft Ave SE\, Grand Rapids\, MI 49512\, Grand Rapids\, MI\, 49512\, United States
CATEGORIES:Band
ATTACH;FMTTYPE=image/jpeg:https://gippersgr.com/wp-content/uploads/2023/01/316948619_1112878329532577_3808704039547944602_n.jpg
END:VEVENT
BEGIN:VEVENT
DTSTART;TZID=America/Detroit:20230121T200000
DTEND;TZID=America/Detroit:20230122T000000
DTSTAMP:20260420T210228
CREATED:20230114T170307Z
LAST-MODIFIED:20230114T170307Z
UID:413-1674331200-1674345600@gippersgr.com
SUMMARY:Azz-Izz @ Gippers
DESCRIPTION:
URL:https://gippersgr.com/event/azz-izz-gippers-7/
LOCATION:Gippers Bar & Restaurant\, 2929 Kraft Ave SE\, Grand Rapids\, MI 49512\, Grand Rapids\, MI\, 49512\, United States
CATEGORIES:Band
ATTACH;FMTTYPE=image/jpeg:https://gippersgr.com/wp-content/uploads/2022/07/288003801_3380970538817908_7886535415403612316_n.jpg
END:VEVENT
BEGIN:VEVENT
DTSTART;TZID=America/Detroit:20230120T200000
DTEND;TZID=America/Detroit:20230121T000000
DTSTAMP:20260420T210228
CREATED:20230114T170135Z
LAST-MODIFIED:20230114T170135Z
UID:410-1674244800-1674259200@gippersgr.com
SUMMARY:BareNaked 90's @ Gippers
DESCRIPTION:
URL:https://gippersgr.com/event/barenaked-90s-gippers/
LOCATION:Gippers Bar & Restaurant\, 2929 Kraft Ave SE\, Grand Rapids\, MI 49512\, Grand Rapids\, MI\, 49512\, United States
CATEGORIES:Band
ATTACH;FMTTYPE=image/jpeg:https://gippersgr.com/wp-content/uploads/2023/01/323332031_6446739665355036_4850325114681382440_n.jpg
END:VEVENT
BEGIN:VEVENT
DTSTART;TZID=America/Detroit:20221217T200000
DTEND;TZID=America/Detroit:20221218T010000
DTSTAMP:20260420T210228
CREATED:20221029T154701Z
LAST-MODIFIED:20221029T154916Z
UID:395-1671307200-1671325200@gippersgr.com
SUMMARY:Azz-Izz @ Gippers
DESCRIPTION:
URL:https://gippersgr.com/event/azz-izz-gippers-6/
LOCATION:Gippers Bar & Restaurant\, 2929 Kraft Ave SE\, Grand Rapids\, MI 49512\, Grand Rapids\, MI\, 49512\, United States
CATEGORIES:Band
ATTACH;FMTTYPE=image/jpeg:https://gippersgr.com/wp-content/uploads/2022/07/288003801_3380970538817908_7886535415403612316_n.jpg
END:VEVENT
BEGIN:VEVENT
DTSTART;TZID=America/Detroit:20221203T200000
DTEND;TZID=America/Detroit:20221204T010000
DTSTAMP:20260420T210228
CREATED:20221029T154541Z
LAST-MODIFIED:20221029T154541Z
UID:393-1670097600-1670115600@gippersgr.com
SUMMARY:Hot Sauce Express @ Gippers
DESCRIPTION:
URL:https://gippersgr.com/event/hot-sauce-express-gippers-2/
LOCATION:Gippers Bar & Restaurant\, 2929 Kraft Ave SE\, Grand Rapids\, MI 49512\, Grand Rapids\, MI\, 49512\, United States
CATEGORIES:Band
ATTACH;FMTTYPE=image/jpeg:https://gippersgr.com/wp-content/uploads/2022/07/289007305_10218494881877914_7907939122123008029_n.jpeg
END:VEVENT
BEGIN:VEVENT
DTSTART;TZID=America/Detroit:20221126T200000
DTEND;TZID=America/Detroit:20221127T010000
DTSTAMP:20260420T210228
CREATED:20221029T154349Z
LAST-MODIFIED:20221029T154349Z
UID:391-1669492800-1669510800@gippersgr.com
SUMMARY:Par-llo Connection @ Gippers
DESCRIPTION:
URL:https://gippersgr.com/event/par-llo-connection-gippers-9/
LOCATION:Gippers Bar & Restaurant\, 2929 Kraft Ave SE\, Grand Rapids\, MI 49512\, Grand Rapids\, MI\, 49512\, United States
CATEGORIES:Band
ATTACH;FMTTYPE=image/jpeg:https://gippersgr.com/wp-content/uploads/2022/07/274086923_1359251291162394_5349018107106833669_n.jpg
END:VEVENT
BEGIN:VEVENT
DTSTART;TZID=America/Detroit:20221119T200000
DTEND;TZID=America/Detroit:20221120T010000
DTSTAMP:20260420T210228
CREATED:20221029T154204Z
LAST-MODIFIED:20221029T154204Z
UID:389-1668888000-1668906000@gippersgr.com
SUMMARY:Hot Sauce Express @ Gippers
DESCRIPTION:
URL:https://gippersgr.com/event/hot-sauce-express-gippers/
LOCATION:Gippers Bar & Restaurant\, 2929 Kraft Ave SE\, Grand Rapids\, MI 49512\, Grand Rapids\, MI\, 49512\, United States
CATEGORIES:Band
ATTACH;FMTTYPE=image/jpeg:https://gippersgr.com/wp-content/uploads/2022/07/289007305_10218494881877914_7907939122123008029_n.jpeg
END:VEVENT
BEGIN:VEVENT
DTSTART;TZID=America/Detroit:20221105T200000
DTEND;TZID=America/Detroit:20221106T010000
DTSTAMP:20260420T210228
CREATED:20221029T154024Z
LAST-MODIFIED:20221111T021413Z
UID:387-1667678400-1667696400@gippersgr.com
SUMMARY:Par-llo Connection @ Gippers
DESCRIPTION:
URL:https://gippersgr.com/event/par-llo-connection-gippers-8/
LOCATION:Gippers Bar & Restaurant\, 2929 Kraft Ave SE\, Grand Rapids\, MI 49512\, Grand Rapids\, MI\, 49512\, United States
CATEGORIES:Band
ATTACH;FMTTYPE=image/jpeg:https://gippersgr.com/wp-content/uploads/2022/07/274086923_1359251291162394_5349018107106833669_n.jpg
END:VEVENT
BEGIN:VEVENT
DTSTART;TZID=America/Detroit:20221029T190000
DTEND;TZID=America/Detroit:20221030T010000
DTSTAMP:20260420T210228
CREATED:20220926T213144Z
LAST-MODIFIED:20221029T153753Z
UID:380-1667070000-1667091600@gippersgr.com
SUMMARY:Halloween Party feat. Flashback @ Gippers
DESCRIPTION:
URL:https://gippersgr.com/event/flashback-gippers/
LOCATION:Gippers Bar & Restaurant\, 2929 Kraft Ave SE\, Grand Rapids\, MI 49512\, Grand Rapids\, MI\, 49512\, United States
CATEGORIES:Band
ATTACH;FMTTYPE=image/jpeg:https://gippersgr.com/wp-content/uploads/2022/09/172640_105478422868337_992973_o.jpg
END:VEVENT
BEGIN:VEVENT
DTSTART;TZID=America/Detroit:20221022T210000
DTEND;TZID=America/Detroit:20221023T010000
DTSTAMP:20260420T210228
CREATED:20220926T212954Z
LAST-MODIFIED:20220926T212954Z
UID:378-1666472400-1666486800@gippersgr.com
SUMMARY:Azz-Izz Band @ Gippers
DESCRIPTION:
URL:https://gippersgr.com/event/azz-izz-band-gippers/
LOCATION:Gippers Bar & Restaurant\, 2929 Kraft Ave SE\, Grand Rapids\, MI 49512\, Grand Rapids\, MI\, 49512\, United States
CATEGORIES:Band
ATTACH;FMTTYPE=image/jpeg:https://gippersgr.com/wp-content/uploads/2022/07/288003801_3380970538817908_7886535415403612316_n.jpg
END:VEVENT
BEGIN:VEVENT
DTSTART;TZID=America/Detroit:20221015T210000
DTEND;TZID=America/Detroit:20221016T010000
DTSTAMP:20260420T210228
CREATED:20220926T212724Z
LAST-MODIFIED:20220926T212724Z
UID:376-1665867600-1665882000@gippersgr.com
SUMMARY:Par-llo Connection @ Gippers
DESCRIPTION:Ride the Party Train with PAR-LLO Connection\, R&B 80’s 90’s current Dance Funk Band. Good food\, Drinks and Mature Vibe. 9pm-1am. NO COVER
URL:https://gippersgr.com/event/par-llo-connection-gippers-7/
LOCATION:Gippers Bar & Restaurant\, 2929 Kraft Ave SE\, Grand Rapids\, MI 49512\, Grand Rapids\, MI\, 49512\, United States
CATEGORIES:Band
ATTACH;FMTTYPE=image/jpeg:https://gippersgr.com/wp-content/uploads/2022/07/274086923_1359251291162394_5349018107106833669_n.jpg
END:VEVENT
END:VCALENDAR