BEGIN:VCALENDAR
VERSION:2.0
PRODID:-//Gippers Bar &amp; Restaurant - ECPv6.15.20//NONSGML v1.0//EN
CALSCALE:GREGORIAN
METHOD:PUBLISH
X-ORIGINAL-URL:https://gippersgr.com
X-WR-CALDESC:Events for Gippers Bar &amp; Restaurant
REFRESH-INTERVAL;VALUE=DURATION:PT1H
X-Robots-Tag:noindex
X-PUBLISHED-TTL:PT1H
BEGIN:VTIMEZONE
TZID:America/Detroit
BEGIN:DAYLIGHT
TZOFFSETFROM:-0500
TZOFFSETTO:-0400
TZNAME:EDT
DTSTART:20240310T070000
END:DAYLIGHT
BEGIN:STANDARD
TZOFFSETFROM:-0400
TZOFFSETTO:-0500
TZNAME:EST
DTSTART:20241103T060000
END:STANDARD
BEGIN:DAYLIGHT
TZOFFSETFROM:-0500
TZOFFSETTO:-0400
TZNAME:EDT
DTSTART:20250309T070000
END:DAYLIGHT
BEGIN:STANDARD
TZOFFSETFROM:-0400
TZOFFSETTO:-0500
TZNAME:EST
DTSTART:20251102T060000
END:STANDARD
BEGIN:DAYLIGHT
TZOFFSETFROM:-0500
TZOFFSETTO:-0400
TZNAME:EDT
DTSTART:20260308T070000
END:DAYLIGHT
BEGIN:STANDARD
TZOFFSETFROM:-0400
TZOFFSETTO:-0500
TZNAME:EST
DTSTART:20261101T060000
END:STANDARD
BEGIN:DAYLIGHT
TZOFFSETFROM:-0500
TZOFFSETTO:-0400
TZNAME:EDT
DTSTART:20270314T070000
END:DAYLIGHT
BEGIN:STANDARD
TZOFFSETFROM:-0400
TZOFFSETTO:-0500
TZNAME:EST
DTSTART:20271107T060000
END:STANDARD
END:VTIMEZONE
BEGIN:VEVENT
DTSTART;TZID=America/Detroit:20251206T210000
DTEND;TZID=America/Detroit:20251207T010000
DTSTAMP:20260420T024435
CREATED:20251017T134337Z
LAST-MODIFIED:20251017T134337Z
UID:2025-1765054800-1765069200@gippersgr.com
SUMMARY:House Cats @ Gippers
DESCRIPTION:
URL:https://gippersgr.com/event/house-cats-gippers-3/
LOCATION:Gippers Bar & Restaurant\, 2929 Kraft Ave SE\, Grand Rapids\, MI 49512\, Grand Rapids\, MI\, 49512\, United States
CATEGORIES:Band
ATTACH;FMTTYPE=image/jpeg:https://gippersgr.com/wp-content/uploads/2025/09/455351389_122136124214285585_8461027789948794537_n.jpg
END:VEVENT
BEGIN:VEVENT
DTSTART;TZID=America/Detroit:20251212T170000
DTEND;TZID=America/Detroit:20251212T190000
DTSTAMP:20260420T024435
CREATED:20251103T193556Z
LAST-MODIFIED:20251103T193556Z
UID:2136-1765558800-1765566000@gippersgr.com
SUMMARY:Holiday Fundraiser and Sampling with Crown Royal
DESCRIPTION:A fundraising event to raise funds for the Misson Roll Call Veterans charity. We will be auctioning off items & stuffing care packages.\n\n\n\nJoin us at Gippers as we raise money for the Misson Role Call Charity for Veterans. We will be auctioning of a Crown Royal Barrel\, that has been painted by a local artist at the event. The barrel will have a QR code for those who would like to bid in advance and are not available to attend. The barrel and other silent auction items will close bidding at 645 pm\, day of the event. In addition\, we will be stuffing Crown Royal care bags for local veterans\, and people in need. Please feel free to bring items day of or leave in the donation mailbox at Gippers. Travel size items are appreciated. Last\, we will also be partaking in Crown Royal complimentary samplings. Hope to see you there supporting this cause.
URL:https://gippersgr.com/event/holiday-fundraiser-and-sampling-with-crown-royal/
LOCATION:Gippers Bar & Restaurant\, 2929 Kraft Ave SE\, Grand Rapids\, MI 49512\, Grand Rapids\, MI\, 49512\, United States
CATEGORIES:Other
ATTACH;FMTTYPE=image/jpeg:https://gippersgr.com/wp-content/uploads/2025/11/https___cdn.evbuc_.com_images_1169090533_316009315389_1_original.jpeg
END:VEVENT
BEGIN:VEVENT
DTSTART;TZID=America/Detroit:20251212T200000
DTEND;TZID=America/Detroit:20251213T000000
DTSTAMP:20260420T024435
CREATED:20251017T134458Z
LAST-MODIFIED:20251017T134458Z
UID:2028-1765569600-1765584000@gippersgr.com
SUMMARY:E11even @ Gippers
DESCRIPTION:
URL:https://gippersgr.com/event/e11even-gippers-3/
LOCATION:Gippers Bar & Restaurant\, 2929 Kraft Ave SE\, Grand Rapids\, MI 49512\, Grand Rapids\, MI\, 49512\, United States
CATEGORIES:Band
ATTACH;FMTTYPE=image/jpeg:https://gippersgr.com/wp-content/uploads/2025/01/428201834_327234540303995_5532904026860043946_n.jpg
END:VEVENT
BEGIN:VEVENT
DTSTART;TZID=America/Detroit:20251219T200000
DTEND;TZID=America/Detroit:20251220T000000
DTSTAMP:20260420T024435
CREATED:20251017T134556Z
LAST-MODIFIED:20251017T134556Z
UID:2033-1766174400-1766188800@gippersgr.com
SUMMARY:Twister @ Gippers
DESCRIPTION:
URL:https://gippersgr.com/event/twister-gippers-6/
LOCATION:Gippers Bar & Restaurant\, 2929 Kraft Ave SE\, Grand Rapids\, MI 49512\, Grand Rapids\, MI\, 49512\, United States
CATEGORIES:Band
ATTACH;FMTTYPE=image/jpeg:https://gippersgr.com/wp-content/uploads/2023/03/twister.jpeg
END:VEVENT
BEGIN:VEVENT
DTSTART;TZID=America/Detroit:20251220T210000
DTEND;TZID=America/Detroit:20251221T010000
DTSTAMP:20260420T024435
CREATED:20251017T134658Z
LAST-MODIFIED:20251017T134658Z
UID:2035-1766264400-1766278800@gippersgr.com
SUMMARY:Azz-Izz @ Gippers
DESCRIPTION:
URL:https://gippersgr.com/event/azz-izz-gippers-35/
LOCATION:Gippers Bar & Restaurant\, 2929 Kraft Ave SE\, Grand Rapids\, MI 49512\, Grand Rapids\, MI\, 49512\, United States
CATEGORIES:Band
ATTACH;FMTTYPE=image/jpeg:https://gippersgr.com/wp-content/uploads/2022/07/288003801_3380970538817908_7886535415403612316_n.jpg
END:VEVENT
BEGIN:VEVENT
DTSTART;TZID=America/Detroit:20251227T210000
DTEND;TZID=America/Detroit:20251228T010000
DTSTAMP:20260420T024435
CREATED:20251017T134824Z
LAST-MODIFIED:20251017T134824Z
UID:2037-1766869200-1766883600@gippersgr.com
SUMMARY:Par-llo Connection @ Gippers
DESCRIPTION:
URL:https://gippersgr.com/event/par-llo-connection-gippers-34/
LOCATION:Gippers Bar & Restaurant\, 2929 Kraft Ave SE\, Grand Rapids\, MI 49512\, Grand Rapids\, MI\, 49512\, United States
CATEGORIES:Band
ATTACH;FMTTYPE=image/jpeg:https://gippersgr.com/wp-content/uploads/2022/07/274086923_1359251291162394_5349018107106833669_n.jpg
END:VEVENT
BEGIN:VEVENT
DTSTART;TZID=America/Detroit:20260117T210000
DTEND;TZID=America/Detroit:20260118T010000
DTSTAMP:20260420T024435
CREATED:20260114T150440Z
LAST-MODIFIED:20260114T150440Z
UID:2567-1768683600-1768698000@gippersgr.com
SUMMARY:Azz-Izz @ Gippers
DESCRIPTION:
URL:https://gippersgr.com/event/azz-izz-gippers-36/
LOCATION:Gippers Bar & Restaurant\, 2929 Kraft Ave SE\, Grand Rapids\, MI 49512\, Grand Rapids\, MI\, 49512\, United States
CATEGORIES:Band
ATTACH;FMTTYPE=image/jpeg:https://gippersgr.com/wp-content/uploads/2022/07/288003801_3380970538817908_7886535415403612316_n.jpg
END:VEVENT
BEGIN:VEVENT
DTSTART;TZID=America/Detroit:20260124T210000
DTEND;TZID=America/Detroit:20260125T010000
DTSTAMP:20260420T024435
CREATED:20260114T150548Z
LAST-MODIFIED:20260114T150548Z
UID:2569-1769288400-1769302800@gippersgr.com
SUMMARY:Par-llo Connection @ Gippers
DESCRIPTION:
URL:https://gippersgr.com/event/par-llo-connection-gippers-35/
LOCATION:Gippers Bar & Restaurant\, 2929 Kraft Ave SE\, Grand Rapids\, MI 49512\, Grand Rapids\, MI\, 49512\, United States
CATEGORIES:Band
ATTACH;FMTTYPE=image/jpeg:https://gippersgr.com/wp-content/uploads/2022/07/274086923_1359251291162394_5349018107106833669_n.jpg
END:VEVENT
BEGIN:VEVENT
DTSTART;TZID=America/Detroit:20260131T210000
DTEND;TZID=America/Detroit:20260201T010000
DTSTAMP:20260420T024435
CREATED:20260128T152632Z
LAST-MODIFIED:20260128T152632Z
UID:2702-1769893200-1769907600@gippersgr.com
SUMMARY:Hot Sauce @ Gippers
DESCRIPTION:
URL:https://gippersgr.com/event/hot-sauce-gippers-4/
LOCATION:Gippers Bar & Restaurant\, 2929 Kraft Ave SE\, Grand Rapids\, MI 49512\, Grand Rapids\, MI\, 49512\, United States
CATEGORIES:Band
ATTACH;FMTTYPE=image/jpeg:https://gippersgr.com/wp-content/uploads/2022/07/289007305_10218494881877914_7907939122123008029_n.jpeg
END:VEVENT
BEGIN:VEVENT
DTSTART;TZID=America/Detroit:20260207T210000
DTEND;TZID=America/Detroit:20260208T010000
DTSTAMP:20260420T024435
CREATED:20260128T152724Z
LAST-MODIFIED:20260128T152724Z
UID:2704-1770498000-1770512400@gippersgr.com
SUMMARY:Decades @ Gippers
DESCRIPTION:
URL:https://gippersgr.com/event/decades-gippers-4/
LOCATION:MI
CATEGORIES:Band
ATTACH;FMTTYPE=image/jpeg:https://gippersgr.com/wp-content/uploads/2025/03/483595585_1195768992558493_4609308867227238819_n.jpg
END:VEVENT
BEGIN:VEVENT
DTSTART;TZID=America/Detroit:20260213T200000
DTEND;TZID=America/Detroit:20260214T000000
DTSTAMP:20260420T024435
CREATED:20260128T152834Z
LAST-MODIFIED:20260128T152834Z
UID:2706-1771012800-1771027200@gippersgr.com
SUMMARY:Dennie Middleton @ Gippers
DESCRIPTION:
URL:https://gippersgr.com/event/dennie-middleton-gippers-2/
LOCATION:Gippers Bar & Restaurant\, 2929 Kraft Ave SE\, Grand Rapids\, MI 49512\, Grand Rapids\, MI\, 49512\, United States
CATEGORIES:Band
ATTACH;FMTTYPE=image/jpeg:https://gippersgr.com/wp-content/uploads/2025/08/528739583_10237097707692196_4722415753284508022_n.jpg
END:VEVENT
BEGIN:VEVENT
DTSTART;TZID=America/Detroit:20260220T210000
DTEND;TZID=America/Detroit:20260221T010000
DTSTAMP:20260420T024435
CREATED:20260128T152931Z
LAST-MODIFIED:20260219T173534Z
UID:2708-1771621200-1771635600@gippersgr.com
SUMMARY:E11even @ Gippers
DESCRIPTION:
URL:https://gippersgr.com/event/e11even-gippers-4/
LOCATION:Gippers Bar & Restaurant\, 2929 Kraft Ave SE\, Grand Rapids\, MI 49512\, Grand Rapids\, MI\, 49512\, United States
CATEGORIES:Band
ATTACH;FMTTYPE=image/jpeg:https://gippersgr.com/wp-content/uploads/2025/01/428201834_327234540303995_5532904026860043946_n.jpg
END:VEVENT
BEGIN:VEVENT
DTSTART;TZID=America/Detroit:20260221T210000
DTEND;TZID=America/Detroit:20260222T010000
DTSTAMP:20260420T024435
CREATED:20260128T153020Z
LAST-MODIFIED:20260128T153020Z
UID:2710-1771707600-1771722000@gippersgr.com
SUMMARY:Azz-Izz @ Gippers
DESCRIPTION:
URL:https://gippersgr.com/event/azz-izz-gippers-37/
LOCATION:Gippers Bar & Restaurant\, 2929 Kraft Ave SE\, Grand Rapids\, MI 49512\, Grand Rapids\, MI\, 49512\, United States
CATEGORIES:Band
ATTACH;FMTTYPE=image/jpeg:https://gippersgr.com/wp-content/uploads/2022/07/288003801_3380970538817908_7886535415403612316_n.jpg
END:VEVENT
BEGIN:VEVENT
DTSTART;TZID=America/Detroit:20260227T200000
DTEND;TZID=America/Detroit:20260228T000000
DTSTAMP:20260420T024435
CREATED:20260128T153702Z
LAST-MODIFIED:20260128T153702Z
UID:2725-1772222400-1772236800@gippersgr.com
SUMMARY:Dennie Middleton @ Gippers
DESCRIPTION:
URL:https://gippersgr.com/event/dennie-middleton-gippers-3/
LOCATION:Gippers Bar & Restaurant\, 2929 Kraft Ave SE\, Grand Rapids\, MI 49512\, Grand Rapids\, MI\, 49512\, United States
CATEGORIES:Band
ATTACH;FMTTYPE=image/jpeg:https://gippersgr.com/wp-content/uploads/2025/08/528739583_10237097707692196_4722415753284508022_n.jpg
END:VEVENT
BEGIN:VEVENT
DTSTART;TZID=America/Detroit:20260228T210000
DTEND;TZID=America/Detroit:20260301T010000
DTSTAMP:20260420T024435
CREATED:20260128T153753Z
LAST-MODIFIED:20260128T153753Z
UID:2730-1772312400-1772326800@gippersgr.com
SUMMARY:Par-llo Connection @ Gippers
DESCRIPTION:
URL:https://gippersgr.com/event/par-llo-connection-gippers-36/
LOCATION:Gippers Bar & Restaurant\, 2929 Kraft Ave SE\, Grand Rapids\, MI 49512\, Grand Rapids\, MI\, 49512\, United States
CATEGORIES:Band
ATTACH;FMTTYPE=image/jpeg:https://gippersgr.com/wp-content/uploads/2022/07/274086923_1359251291162394_5349018107106833669_n.jpg
END:VEVENT
BEGIN:VEVENT
DTSTART;TZID=America/Detroit:20260321T210000
DTEND;TZID=America/Detroit:20260322T010000
DTSTAMP:20260420T024435
CREATED:20260317T164221Z
LAST-MODIFIED:20260317T164221Z
UID:3083-1774126800-1774141200@gippersgr.com
SUMMARY:Azz-Izz @ Gippers
DESCRIPTION:
URL:https://gippersgr.com/event/azz-izz-gippers-38/
LOCATION:Gippers Bar & Restaurant\, 2929 Kraft Ave SE\, Grand Rapids\, MI 49512\, Grand Rapids\, MI\, 49512\, United States
CATEGORIES:Band
ATTACH;FMTTYPE=image/jpeg:https://gippersgr.com/wp-content/uploads/2021/10/azz-izz.jpeg
END:VEVENT
BEGIN:VEVENT
DTSTART;TZID=America/Detroit:20260411T210000
DTEND;TZID=America/Detroit:20260412T010000
DTSTAMP:20260420T024435
CREATED:20260406T203119Z
LAST-MODIFIED:20260406T203119Z
UID:3192-1775941200-1775955600@gippersgr.com
SUMMARY:Hot Sauce @ Gippers
DESCRIPTION:
URL:https://gippersgr.com/event/hot-sauce-gippers-5/
LOCATION:Gippers Bar & Restaurant\, 2929 Kraft Ave SE\, Grand Rapids\, MI 49512\, Grand Rapids\, MI\, 49512\, United States
CATEGORIES:Band
ATTACH;FMTTYPE=image/jpeg:https://gippersgr.com/wp-content/uploads/2022/07/289007305_10218494881877914_7907939122123008029_n.jpeg
END:VEVENT
BEGIN:VEVENT
DTSTART;TZID=America/Detroit:20260418T210000
DTEND;TZID=America/Detroit:20260419T010000
DTSTAMP:20260420T024435
CREATED:20260406T204134Z
LAST-MODIFIED:20260406T204134Z
UID:3194-1776546000-1776560400@gippersgr.com
SUMMARY:Azz-Izz @ Gippers
DESCRIPTION:
URL:https://gippersgr.com/event/azz-izz-gippers-39/
LOCATION:Gippers Bar & Restaurant\, 2929 Kraft Ave SE\, Grand Rapids\, MI 49512\, Grand Rapids\, MI\, 49512\, United States
CATEGORIES:Band
ATTACH;FMTTYPE=image/jpeg:https://gippersgr.com/wp-content/uploads/2022/07/288003801_3380970538817908_7886535415403612316_n.jpg
END:VEVENT
BEGIN:VEVENT
DTSTART;TZID=America/Detroit:20260425T210000
DTEND;TZID=America/Detroit:20260426T010000
DTSTAMP:20260420T024435
CREATED:20260406T204635Z
LAST-MODIFIED:20260406T204635Z
UID:3196-1777150800-1777165200@gippersgr.com
SUMMARY:Par-llo Connection @ Gippers
DESCRIPTION:
URL:https://gippersgr.com/event/par-llo-connection-gippers-37/
LOCATION:Gippers Bar & Restaurant\, 2929 Kraft Ave SE\, Grand Rapids\, MI 49512\, Grand Rapids\, MI\, 49512\, United States
CATEGORIES:Band
ATTACH;FMTTYPE=image/jpeg:https://gippersgr.com/wp-content/uploads/2022/07/274086923_1359251291162394_5349018107106833669_n.jpg
END:VEVENT
END:VCALENDAR