BEGIN:VCALENDAR
VERSION:2.0
PRODID:-//Gippers Bar &amp; Restaurant - ECPv6.15.20//NONSGML v1.0//EN
CALSCALE:GREGORIAN
METHOD:PUBLISH
X-WR-CALNAME:Gippers Bar &amp; Restaurant
X-ORIGINAL-URL:https://gippersgr.com
X-WR-CALDESC:Events for Gippers Bar &amp; Restaurant
REFRESH-INTERVAL;VALUE=DURATION:PT1H
X-Robots-Tag:noindex
X-PUBLISHED-TTL:PT1H
BEGIN:VTIMEZONE
TZID:America/Detroit
BEGIN:DAYLIGHT
TZOFFSETFROM:-0500
TZOFFSETTO:-0400
TZNAME:EDT
DTSTART:20240310T070000
END:DAYLIGHT
BEGIN:STANDARD
TZOFFSETFROM:-0400
TZOFFSETTO:-0500
TZNAME:EST
DTSTART:20241103T060000
END:STANDARD
BEGIN:DAYLIGHT
TZOFFSETFROM:-0500
TZOFFSETTO:-0400
TZNAME:EDT
DTSTART:20250309T070000
END:DAYLIGHT
BEGIN:STANDARD
TZOFFSETFROM:-0400
TZOFFSETTO:-0500
TZNAME:EST
DTSTART:20251102T060000
END:STANDARD
BEGIN:DAYLIGHT
TZOFFSETFROM:-0500
TZOFFSETTO:-0400
TZNAME:EDT
DTSTART:20260308T070000
END:DAYLIGHT
BEGIN:STANDARD
TZOFFSETFROM:-0400
TZOFFSETTO:-0500
TZNAME:EST
DTSTART:20261101T060000
END:STANDARD
END:VTIMEZONE
BEGIN:VEVENT
DTSTART;TZID=America/Detroit:20251227T210000
DTEND;TZID=America/Detroit:20251228T010000
DTSTAMP:20260420T022532
CREATED:20251017T134824Z
LAST-MODIFIED:20251017T134824Z
UID:2037-1766869200-1766883600@gippersgr.com
SUMMARY:Par-llo Connection @ Gippers
DESCRIPTION:
URL:https://gippersgr.com/event/par-llo-connection-gippers-34/
LOCATION:Gippers Bar & Restaurant\, 2929 Kraft Ave SE\, Grand Rapids\, MI 49512\, Grand Rapids\, MI\, 49512\, United States
CATEGORIES:Band
ATTACH;FMTTYPE=image/jpeg:https://gippersgr.com/wp-content/uploads/2022/07/274086923_1359251291162394_5349018107106833669_n.jpg
END:VEVENT
BEGIN:VEVENT
DTSTART;TZID=America/Detroit:20251220T210000
DTEND;TZID=America/Detroit:20251221T010000
DTSTAMP:20260420T022532
CREATED:20251017T134658Z
LAST-MODIFIED:20251017T134658Z
UID:2035-1766264400-1766278800@gippersgr.com
SUMMARY:Azz-Izz @ Gippers
DESCRIPTION:
URL:https://gippersgr.com/event/azz-izz-gippers-35/
LOCATION:Gippers Bar & Restaurant\, 2929 Kraft Ave SE\, Grand Rapids\, MI 49512\, Grand Rapids\, MI\, 49512\, United States
CATEGORIES:Band
ATTACH;FMTTYPE=image/jpeg:https://gippersgr.com/wp-content/uploads/2022/07/288003801_3380970538817908_7886535415403612316_n.jpg
END:VEVENT
BEGIN:VEVENT
DTSTART;TZID=America/Detroit:20251219T200000
DTEND;TZID=America/Detroit:20251220T000000
DTSTAMP:20260420T022532
CREATED:20251017T134556Z
LAST-MODIFIED:20251017T134556Z
UID:2033-1766174400-1766188800@gippersgr.com
SUMMARY:Twister @ Gippers
DESCRIPTION:
URL:https://gippersgr.com/event/twister-gippers-6/
LOCATION:Gippers Bar & Restaurant\, 2929 Kraft Ave SE\, Grand Rapids\, MI 49512\, Grand Rapids\, MI\, 49512\, United States
CATEGORIES:Band
ATTACH;FMTTYPE=image/jpeg:https://gippersgr.com/wp-content/uploads/2023/03/twister.jpeg
END:VEVENT
BEGIN:VEVENT
DTSTART;TZID=America/Detroit:20251212T200000
DTEND;TZID=America/Detroit:20251213T000000
DTSTAMP:20260420T022532
CREATED:20251017T134458Z
LAST-MODIFIED:20251017T134458Z
UID:2028-1765569600-1765584000@gippersgr.com
SUMMARY:E11even @ Gippers
DESCRIPTION:
URL:https://gippersgr.com/event/e11even-gippers-3/
LOCATION:Gippers Bar & Restaurant\, 2929 Kraft Ave SE\, Grand Rapids\, MI 49512\, Grand Rapids\, MI\, 49512\, United States
CATEGORIES:Band
ATTACH;FMTTYPE=image/jpeg:https://gippersgr.com/wp-content/uploads/2025/01/428201834_327234540303995_5532904026860043946_n.jpg
END:VEVENT
BEGIN:VEVENT
DTSTART;TZID=America/Detroit:20251212T170000
DTEND;TZID=America/Detroit:20251212T190000
DTSTAMP:20260420T022532
CREATED:20251103T193556Z
LAST-MODIFIED:20251103T193556Z
UID:2136-1765558800-1765566000@gippersgr.com
SUMMARY:Holiday Fundraiser and Sampling with Crown Royal
DESCRIPTION:A fundraising event to raise funds for the Misson Roll Call Veterans charity. We will be auctioning off items & stuffing care packages.\n\n\n\nJoin us at Gippers as we raise money for the Misson Role Call Charity for Veterans. We will be auctioning of a Crown Royal Barrel\, that has been painted by a local artist at the event. The barrel will have a QR code for those who would like to bid in advance and are not available to attend. The barrel and other silent auction items will close bidding at 645 pm\, day of the event. In addition\, we will be stuffing Crown Royal care bags for local veterans\, and people in need. Please feel free to bring items day of or leave in the donation mailbox at Gippers. Travel size items are appreciated. Last\, we will also be partaking in Crown Royal complimentary samplings. Hope to see you there supporting this cause.
URL:https://gippersgr.com/event/holiday-fundraiser-and-sampling-with-crown-royal/
LOCATION:Gippers Bar & Restaurant\, 2929 Kraft Ave SE\, Grand Rapids\, MI 49512\, Grand Rapids\, MI\, 49512\, United States
CATEGORIES:Other
ATTACH;FMTTYPE=image/jpeg:https://gippersgr.com/wp-content/uploads/2025/11/https___cdn.evbuc_.com_images_1169090533_316009315389_1_original.jpeg
END:VEVENT
BEGIN:VEVENT
DTSTART;TZID=America/Detroit:20251206T210000
DTEND;TZID=America/Detroit:20251207T010000
DTSTAMP:20260420T022532
CREATED:20251017T134337Z
LAST-MODIFIED:20251017T134337Z
UID:2025-1765054800-1765069200@gippersgr.com
SUMMARY:House Cats @ Gippers
DESCRIPTION:
URL:https://gippersgr.com/event/house-cats-gippers-3/
LOCATION:Gippers Bar & Restaurant\, 2929 Kraft Ave SE\, Grand Rapids\, MI 49512\, Grand Rapids\, MI\, 49512\, United States
CATEGORIES:Band
ATTACH;FMTTYPE=image/jpeg:https://gippersgr.com/wp-content/uploads/2025/09/455351389_122136124214285585_8461027789948794537_n.jpg
END:VEVENT
BEGIN:VEVENT
DTSTART;TZID=America/Detroit:20251129T210000
DTEND;TZID=America/Detroit:20251130T010000
DTSTAMP:20260420T022532
CREATED:20251017T134210Z
LAST-MODIFIED:20251017T134210Z
UID:2023-1764450000-1764464400@gippersgr.com
SUMMARY:Par-llo Connection @ Gippers
DESCRIPTION:
URL:https://gippersgr.com/event/par-llo-connection-gippers-33/
LOCATION:Gippers Bar & Restaurant\, 2929 Kraft Ave SE\, Grand Rapids\, MI 49512\, Grand Rapids\, MI\, 49512\, United States
CATEGORIES:Band
ATTACH;FMTTYPE=image/jpeg:https://gippersgr.com/wp-content/uploads/2022/07/274086923_1359251291162394_5349018107106833669_n.jpg
END:VEVENT
BEGIN:VEVENT
DTSTART;TZID=America/Detroit:20251121T200000
DTEND;TZID=America/Detroit:20251122T000000
DTSTAMP:20260420T022532
CREATED:20251017T134124Z
LAST-MODIFIED:20251017T134124Z
UID:2014-1763755200-1763769600@gippersgr.com
SUMMARY:Twister @ Gippers
DESCRIPTION:
URL:https://gippersgr.com/event/twister-gippers-5/
LOCATION:Gippers Bar & Restaurant\, 2929 Kraft Ave SE\, Grand Rapids\, MI 49512\, Grand Rapids\, MI\, 49512\, United States
CATEGORIES:Band
ATTACH;FMTTYPE=image/jpeg:https://gippersgr.com/wp-content/uploads/2023/03/twister.jpeg
END:VEVENT
BEGIN:VEVENT
DTSTART;TZID=America/Detroit:20251115T210000
DTEND;TZID=America/Detroit:20251116T010000
DTSTAMP:20260420T022532
CREATED:20251017T134031Z
LAST-MODIFIED:20251017T134031Z
UID:2012-1763240400-1763254800@gippersgr.com
SUMMARY:Azz-Izz @ Gippers
DESCRIPTION:
URL:https://gippersgr.com/event/azz-izz-gippers-34/
LOCATION:Gippers Bar & Restaurant\, 2929 Kraft Ave SE\, Grand Rapids\, MI 49512\, Grand Rapids\, MI\, 49512\, United States
CATEGORIES:Band
ATTACH;FMTTYPE=image/jpeg:https://gippersgr.com/wp-content/uploads/2022/07/288003801_3380970538817908_7886535415403612316_n.jpg
END:VEVENT
BEGIN:VEVENT
DTSTART;TZID=America/Detroit:20251114T200000
DTEND;TZID=America/Detroit:20251115T000000
DTSTAMP:20260420T022532
CREATED:20251113T034633Z
LAST-MODIFIED:20251113T034633Z
UID:2226-1763150400-1763164800@gippersgr.com
SUMMARY:Decades @ Gippers
DESCRIPTION:
URL:https://gippersgr.com/event/decades-gippers-3/
LOCATION:Gippers Bar & Restaurant\, 2929 Kraft Ave SE\, Grand Rapids\, MI 49512\, Grand Rapids\, MI\, 49512\, United States
CATEGORIES:Band
ATTACH;FMTTYPE=image/jpeg:https://gippersgr.com/wp-content/uploads/2025/03/483595585_1195768992558493_4609308867227238819_n.jpg
END:VEVENT
BEGIN:VEVENT
DTSTART;TZID=America/Detroit:20251107T200000
DTEND;TZID=America/Detroit:20251108T000000
DTSTAMP:20260420T022532
CREATED:20251017T133940Z
LAST-MODIFIED:20251017T133940Z
UID:2005-1762545600-1762560000@gippersgr.com
SUMMARY:Barenaked 90's @ Gippers
DESCRIPTION:
URL:https://gippersgr.com/event/barenaked-90s-gippers-10/
LOCATION:Gippers Bar & Restaurant\, 2929 Kraft Ave SE\, Grand Rapids\, MI 49512\, Grand Rapids\, MI\, 49512\, United States
CATEGORIES:Band
ATTACH;FMTTYPE=image/jpeg:https://gippersgr.com/wp-content/uploads/2023/03/barenaked-90s.jpg
END:VEVENT
BEGIN:VEVENT
DTSTART;TZID=America/Detroit:20251101T210000
DTEND;TZID=America/Detroit:20251102T010000
DTSTAMP:20260420T022532
CREATED:20251017T133840Z
LAST-MODIFIED:20251017T133840Z
UID:2002-1762030800-1762045200@gippersgr.com
SUMMARY:House Cats @ Gippers
DESCRIPTION:
URL:https://gippersgr.com/event/house-cats-gippers-2/
LOCATION:Gippers Bar & Restaurant\, 2929 Kraft Ave SE\, Grand Rapids\, MI 49512\, Grand Rapids\, MI\, 49512\, United States
CATEGORIES:Band
ATTACH;FMTTYPE=image/jpeg:https://gippersgr.com/wp-content/uploads/2025/09/455351389_122136124214285585_8461027789948794537_n.jpg
END:VEVENT
BEGIN:VEVENT
DTSTART;TZID=America/Detroit:20251025T210000
DTEND;TZID=America/Detroit:20251026T010000
DTSTAMP:20260420T022532
CREATED:20251017T133759Z
LAST-MODIFIED:20251017T133759Z
UID:1995-1761426000-1761440400@gippersgr.com
SUMMARY:Flashback @ Gippers
DESCRIPTION:
URL:https://gippersgr.com/event/flashback-gippers-11/
LOCATION:Gippers Bar & Restaurant\, 2929 Kraft Ave SE\, Grand Rapids\, MI 49512\, Grand Rapids\, MI\, 49512\, United States
CATEGORIES:Band
ATTACH;FMTTYPE=image/jpeg:https://gippersgr.com/wp-content/uploads/2022/09/172640_105478422868337_992973_o.jpg
END:VEVENT
BEGIN:VEVENT
DTSTART;TZID=America/Detroit:20251018T210000
DTEND;TZID=America/Detroit:20251019T010000
DTSTAMP:20260420T022532
CREATED:20251017T133658Z
LAST-MODIFIED:20251017T133658Z
UID:1993-1760821200-1760835600@gippersgr.com
SUMMARY:Azz-Izz @ Gippers
DESCRIPTION:
URL:https://gippersgr.com/event/azz-izz-gippers-33/
LOCATION:Gippers Bar & Restaurant\, 2929 Kraft Ave SE\, Grand Rapids\, MI 49512\, Grand Rapids\, MI\, 49512\, United States
CATEGORIES:Band
ATTACH;FMTTYPE=image/jpeg:https://gippersgr.com/wp-content/uploads/2022/07/288003801_3380970538817908_7886535415403612316_n.jpg
END:VEVENT
BEGIN:VEVENT
DTSTART;TZID=America/Detroit:20250927T210000
DTEND;TZID=America/Detroit:20250928T010000
DTSTAMP:20260420T022532
CREATED:20250909T221131Z
LAST-MODIFIED:20250909T221131Z
UID:1820-1759006800-1759021200@gippersgr.com
SUMMARY:Par-llo Connection @ Gippers
DESCRIPTION:
URL:https://gippersgr.com/event/par-llo-connection-gippers-32/
LOCATION:Gippers Bar & Restaurant\, 2929 Kraft Ave SE\, Grand Rapids\, MI 49512\, Grand Rapids\, MI\, 49512\, United States
CATEGORIES:Band
ATTACH;FMTTYPE=image/jpeg:https://gippersgr.com/wp-content/uploads/2022/07/274086923_1359251291162394_5349018107106833669_n.jpg
END:VEVENT
BEGIN:VEVENT
DTSTART;TZID=America/Detroit:20250926T200000
DTEND;TZID=America/Detroit:20250927T000000
DTSTAMP:20260420T022532
CREATED:20250909T215248Z
LAST-MODIFIED:20250909T215248Z
UID:1817-1758916800-1758931200@gippersgr.com
SUMMARY:House Cats @ Gippers
DESCRIPTION:
URL:https://gippersgr.com/event/house-cats-gippers/
LOCATION:Gippers Bar & Restaurant\, 2929 Kraft Ave SE\, Grand Rapids\, MI 49512\, Grand Rapids\, MI\, 49512\, United States
CATEGORIES:Band
ATTACH;FMTTYPE=image/jpeg:https://gippersgr.com/wp-content/uploads/2025/09/455351389_122136124214285585_8461027789948794537_n.jpg
END:VEVENT
BEGIN:VEVENT
DTSTART;TZID=America/Detroit:20250920T210000
DTEND;TZID=America/Detroit:20250921T010000
DTSTAMP:20260420T022532
CREATED:20250909T214955Z
LAST-MODIFIED:20250909T214955Z
UID:1815-1758402000-1758416400@gippersgr.com
SUMMARY:Azz-Izz @ Gippers
DESCRIPTION:
URL:https://gippersgr.com/event/azz-izz-gippers-32/
LOCATION:Gippers Bar & Restaurant\, 2929 Kraft Ave SE\, Grand Rapids\, MI 49512\, Grand Rapids\, MI\, 49512\, United States
CATEGORIES:Band
ATTACH;FMTTYPE=image/jpeg:https://gippersgr.com/wp-content/uploads/2022/07/288003801_3380970538817908_7886535415403612316_n.jpg
END:VEVENT
BEGIN:VEVENT
DTSTART;TZID=America/Detroit:20250912T200000
DTEND;TZID=America/Detroit:20250913T000000
DTSTAMP:20260420T022532
CREATED:20250909T212924Z
LAST-MODIFIED:20250909T212924Z
UID:1813-1757707200-1757721600@gippersgr.com
SUMMARY:Flashback @ Gippers
DESCRIPTION:
URL:https://gippersgr.com/event/flashback-gippers-10/
LOCATION:Gippers Bar & Restaurant\, 2929 Kraft Ave SE\, Grand Rapids\, MI 49512\, Grand Rapids\, MI\, 49512\, United States
CATEGORIES:Band
ATTACH;FMTTYPE=image/jpeg:https://gippersgr.com/wp-content/uploads/2022/09/172640_105478422868337_992973_o.jpg
END:VEVENT
BEGIN:VEVENT
DTSTART;TZID=America/Detroit:20250830T210000
DTEND;TZID=America/Detroit:20250831T010000
DTSTAMP:20260420T022532
CREATED:20250807T143717Z
LAST-MODIFIED:20250807T143717Z
UID:1670-1756587600-1756602000@gippersgr.com
SUMMARY:Par-llo Connection @ Gippers
DESCRIPTION:
URL:https://gippersgr.com/event/par-llo-connection-gippers-31/
LOCATION:Gippers Bar & Restaurant\, 2929 Kraft Ave SE\, Grand Rapids\, MI 49512\, Grand Rapids\, MI\, 49512\, United States
CATEGORIES:Band
ATTACH;FMTTYPE=image/jpeg:https://gippersgr.com/wp-content/uploads/2022/07/274086923_1359251291162394_5349018107106833669_n.jpg
END:VEVENT
BEGIN:VEVENT
DTSTART;TZID=America/Detroit:20250823T210000
DTEND;TZID=America/Detroit:20250824T010000
DTSTAMP:20260420T022532
CREATED:20250807T143219Z
LAST-MODIFIED:20250807T143219Z
UID:1667-1755982800-1755997200@gippersgr.com
SUMMARY:Dennie Middleton @ Gippers
DESCRIPTION:
URL:https://gippersgr.com/event/dennie-middleton-gippers/
LOCATION:Gippers Bar & Restaurant\, 2929 Kraft Ave SE\, Grand Rapids\, MI 49512\, Grand Rapids\, MI\, 49512\, United States
CATEGORIES:Band
ATTACH;FMTTYPE=image/jpeg:https://gippersgr.com/wp-content/uploads/2025/08/528739583_10237097707692196_4722415753284508022_n.jpg
END:VEVENT
BEGIN:VEVENT
DTSTART;TZID=America/Detroit:20250816T210000
DTEND;TZID=America/Detroit:20250817T010000
DTSTAMP:20260420T022532
CREATED:20250807T143027Z
LAST-MODIFIED:20250807T143027Z
UID:1665-1755378000-1755392400@gippersgr.com
SUMMARY:Azz-Izz @ Gippers
DESCRIPTION:
URL:https://gippersgr.com/event/azz-izz-gippers-31/
LOCATION:Gippers Bar & Restaurant\, 2929 Kraft Ave SE\, Grand Rapids\, MI 49512\, Grand Rapids\, MI\, 49512\, United States
CATEGORIES:Band
ATTACH;FMTTYPE=image/jpeg:https://gippersgr.com/wp-content/uploads/2022/07/288003801_3380970538817908_7886535415403612316_n.jpg
END:VEVENT
BEGIN:VEVENT
DTSTART;TZID=America/Detroit:20250807T180000
DTEND;TZID=America/Detroit:20250807T210000
DTSTAMP:20260420T022532
CREATED:20250807T142900Z
LAST-MODIFIED:20250807T142900Z
UID:1663-1754589600-1754600400@gippersgr.com
SUMMARY:Bike Night @ Gippers
DESCRIPTION:Happy Hour Until 9pm. Food Specials. Contests. Live Music @ 6pm. Sponsored by Hot Rod Harley!
URL:https://gippersgr.com/event/bike-night-gippers-3/
LOCATION:Gippers Bar & Restaurant\, 2929 Kraft Ave SE\, Grand Rapids\, MI 49512\, Grand Rapids\, MI\, 49512\, United States
CATEGORIES:Other
ATTACH;FMTTYPE=image/jpeg:https://gippersgr.com/wp-content/uploads/2025/07/bike-night.jpg
END:VEVENT
BEGIN:VEVENT
DTSTART;TZID=America/Detroit:20250726T210000
DTEND;TZID=America/Detroit:20250727T010000
DTSTAMP:20260420T022532
CREATED:20250708T170401Z
LAST-MODIFIED:20250708T170401Z
UID:1463-1753563600-1753578000@gippersgr.com
SUMMARY:Par-llo Connection @ Gippers
DESCRIPTION:
URL:https://gippersgr.com/event/par-llo-connection-gippers-30/
LOCATION:Gippers Bar & Restaurant\, 2929 Kraft Ave SE\, Grand Rapids\, MI 49512\, Grand Rapids\, MI\, 49512\, United States
CATEGORIES:Band
ATTACH;FMTTYPE=image/jpeg:https://gippersgr.com/wp-content/uploads/2022/07/274086923_1359251291162394_5349018107106833669_n.jpg
END:VEVENT
BEGIN:VEVENT
DTSTART;TZID=America/Detroit:20250725T200000
DTEND;TZID=America/Detroit:20250726T000000
DTSTAMP:20260420T022532
CREATED:20250708T170240Z
LAST-MODIFIED:20250725T135304Z
UID:1461-1753473600-1753488000@gippersgr.com
SUMMARY:Flashback @ Gippers
DESCRIPTION:
URL:https://gippersgr.com/event/flashback-gippers-9/
LOCATION:Gippers Bar & Restaurant\, 2929 Kraft Ave SE\, Grand Rapids\, MI 49512\, Grand Rapids\, MI\, 49512\, United States
CATEGORIES:Band
ATTACH;FMTTYPE=image/jpeg:https://gippersgr.com/wp-content/uploads/2022/09/172640_105478422868337_992973_o.jpg
END:VEVENT
BEGIN:VEVENT
DTSTART;TZID=America/Detroit:20250724T180000
DTEND;TZID=America/Detroit:20250724T210000
DTSTAMP:20260420T022532
CREATED:20250721T180039Z
LAST-MODIFIED:20250721T180039Z
UID:1559-1753380000-1753390800@gippersgr.com
SUMMARY:Bike Night @ Gippers
DESCRIPTION:Happy Hour Until 9pm. Food Specials. Contests. Live Music @ 6pm. Sponsored by Hot Rod Harley!
URL:https://gippersgr.com/event/bike-night-gippers-2/
LOCATION:Gippers Bar & Restaurant\, 2929 Kraft Ave SE\, Grand Rapids\, MI 49512\, Grand Rapids\, MI\, 49512\, United States
CATEGORIES:Other
ATTACH;FMTTYPE=image/jpeg:https://gippersgr.com/wp-content/uploads/2025/07/bike-night.jpg
END:VEVENT
BEGIN:VEVENT
DTSTART;TZID=America/Detroit:20250719T210000
DTEND;TZID=America/Detroit:20250720T010000
DTSTAMP:20260420T022532
CREATED:20250708T165736Z
LAST-MODIFIED:20250708T165736Z
UID:1459-1752958800-1752973200@gippersgr.com
SUMMARY:Azz-Izz @ Gippers
DESCRIPTION:
URL:https://gippersgr.com/event/azz-izz-gippers-30/
LOCATION:Gippers Bar & Restaurant\, 2929 Kraft Ave SE\, Grand Rapids\, MI 49512\, Grand Rapids\, MI\, 49512\, United States
CATEGORIES:Band
ATTACH;FMTTYPE=image/jpeg:https://gippersgr.com/wp-content/uploads/2022/07/288003801_3380970538817908_7886535415403612316_n.jpg
END:VEVENT
BEGIN:VEVENT
DTSTART;TZID=America/Detroit:20250710T180000
DTEND;TZID=America/Detroit:20250710T210000
DTSTAMP:20260420T022532
CREATED:20250708T200252Z
LAST-MODIFIED:20250708T210933Z
UID:1502-1752170400-1752181200@gippersgr.com
SUMMARY:Bike Night @ Gippers
DESCRIPTION:Live Band\, Happy Hour until 9pm\, Food Specials\, Contests\, and more!
URL:https://gippersgr.com/event/bike-night-gippers/
LOCATION:Gippers Bar & Restaurant\, 2929 Kraft Ave SE\, Grand Rapids\, MI 49512\, Grand Rapids\, MI\, 49512\, United States
CATEGORIES:Band,Other
ATTACH;FMTTYPE=image/png:https://gippersgr.com/wp-content/uploads/2025/07/usmfw8rud3jhlokdicmh.png
END:VEVENT
BEGIN:VEVENT
DTSTART;TZID=America/Detroit:20250628T210000
DTEND;TZID=America/Detroit:20250629T010000
DTSTAMP:20260420T022532
CREATED:20250613T155941Z
LAST-MODIFIED:20250613T155941Z
UID:1402-1751144400-1751158800@gippersgr.com
SUMMARY:Par-llo Connection @ Gippers
DESCRIPTION:
URL:https://gippersgr.com/event/par-llo-connection-gippers-29/
LOCATION:Gippers Bar & Restaurant\, 2929 Kraft Ave SE\, Grand Rapids\, MI 49512\, Grand Rapids\, MI\, 49512\, United States
CATEGORIES:Band
ATTACH;FMTTYPE=image/jpeg:https://gippersgr.com/wp-content/uploads/2022/07/274086923_1359251291162394_5349018107106833669_n.jpg
END:VEVENT
BEGIN:VEVENT
DTSTART;TZID=America/Detroit:20250627T200000
DTEND;TZID=America/Detroit:20250628T000000
DTSTAMP:20260420T022532
CREATED:20250613T155858Z
LAST-MODIFIED:20250613T155858Z
UID:1400-1751054400-1751068800@gippersgr.com
SUMMARY:Medusa @ Gippers
DESCRIPTION:
URL:https://gippersgr.com/event/medusa-gippers/
LOCATION:Gippers Bar & Restaurant\, 2929 Kraft Ave SE\, Grand Rapids\, MI 49512\, Grand Rapids\, MI\, 49512\, United States
CATEGORIES:Band
ATTACH;FMTTYPE=image/jpeg:https://gippersgr.com/wp-content/uploads/2025/05/454197310_1022470089881963_6443847162029094775_n.jpg
END:VEVENT
BEGIN:VEVENT
DTSTART;TZID=America/Detroit:20250621T210000
DTEND;TZID=America/Detroit:20250622T010000
DTSTAMP:20260420T022532
CREATED:20250613T155705Z
LAST-MODIFIED:20250613T155705Z
UID:1398-1750539600-1750554000@gippersgr.com
SUMMARY:Azz-Izz @ Gippers
DESCRIPTION:
URL:https://gippersgr.com/event/azz-izz-gippers-29/
LOCATION:Gippers Bar & Restaurant\, 2929 Kraft Ave SE\, Grand Rapids\, MI 49512\, Grand Rapids\, MI\, 49512\, United States
CATEGORIES:Band
ATTACH;FMTTYPE=image/jpeg:https://gippersgr.com/wp-content/uploads/2022/07/288003801_3380970538817908_7886535415403612316_n.jpg
END:VEVENT
END:VCALENDAR