BEGIN:VCALENDAR
VERSION:2.0
PRODID:-//Gippers Bar &amp; Restaurant - ECPv6.15.20//NONSGML v1.0//EN
CALSCALE:GREGORIAN
METHOD:PUBLISH
X-ORIGINAL-URL:https://gippersgr.com
X-WR-CALDESC:Events for Gippers Bar &amp; Restaurant
REFRESH-INTERVAL;VALUE=DURATION:PT1H
X-Robots-Tag:noindex
X-PUBLISHED-TTL:PT1H
BEGIN:VTIMEZONE
TZID:America/Detroit
BEGIN:DAYLIGHT
TZOFFSETFROM:-0500
TZOFFSETTO:-0400
TZNAME:EDT
DTSTART:20220313T070000
END:DAYLIGHT
BEGIN:STANDARD
TZOFFSETFROM:-0400
TZOFFSETTO:-0500
TZNAME:EST
DTSTART:20221106T060000
END:STANDARD
BEGIN:DAYLIGHT
TZOFFSETFROM:-0500
TZOFFSETTO:-0400
TZNAME:EDT
DTSTART:20230312T070000
END:DAYLIGHT
BEGIN:STANDARD
TZOFFSETFROM:-0400
TZOFFSETTO:-0500
TZNAME:EST
DTSTART:20231105T060000
END:STANDARD
BEGIN:DAYLIGHT
TZOFFSETFROM:-0500
TZOFFSETTO:-0400
TZNAME:EDT
DTSTART:20240310T070000
END:DAYLIGHT
BEGIN:STANDARD
TZOFFSETFROM:-0400
TZOFFSETTO:-0500
TZNAME:EST
DTSTART:20241103T060000
END:STANDARD
END:VTIMEZONE
BEGIN:VEVENT
DTSTART;TZID=America/Detroit:20230915T210000
DTEND;TZID=America/Detroit:20230916T000000
DTSTAMP:20260421T211305
CREATED:20230912T192910Z
LAST-MODIFIED:20230912T192910Z
UID:514-1694811600-1694822400@gippersgr.com
SUMMARY:Id10ts @ Gippers
DESCRIPTION:
URL:https://gippersgr.com/event/id10ts-gippers/
LOCATION:Gippers Bar & Restaurant\, 2929 Kraft Ave SE\, Grand Rapids\, MI 49512\, Grand Rapids\, MI\, 49512\, United States
CATEGORIES:Band
ATTACH;FMTTYPE=image/jpeg:https://gippersgr.com/wp-content/uploads/2023/03/ID10T5.jpeg
END:VEVENT
BEGIN:VEVENT
DTSTART;TZID=America/Detroit:20230916T210000
DTEND;TZID=America/Detroit:20230917T010000
DTSTAMP:20260421T211305
CREATED:20230912T193208Z
LAST-MODIFIED:20230912T193208Z
UID:516-1694898000-1694912400@gippersgr.com
SUMMARY:Par-llo Connection @ Gippers
DESCRIPTION:
URL:https://gippersgr.com/event/par-llo-connection-gippers-14/
LOCATION:Gippers Bar & Restaurant\, 2929 Kraft Ave SE\, Grand Rapids\, MI 49512\, Grand Rapids\, MI\, 49512\, United States
CATEGORIES:Band
ATTACH;FMTTYPE=image/jpeg:https://gippersgr.com/wp-content/uploads/2022/07/274086923_1359251291162394_5349018107106833669_n.jpg
END:VEVENT
BEGIN:VEVENT
DTSTART;TZID=America/Detroit:20230923T210000
DTEND;TZID=America/Detroit:20230924T000000
DTSTAMP:20260421T211305
CREATED:20230912T193322Z
LAST-MODIFIED:20230912T193322Z
UID:518-1695502800-1695513600@gippersgr.com
SUMMARY:Azz-Izz @ Gippers
DESCRIPTION:
URL:https://gippersgr.com/event/azz-izz-gippers-13/
LOCATION:Gippers Bar & Restaurant\, 2929 Kraft Ave SE\, Grand Rapids\, MI 49512\, Grand Rapids\, MI\, 49512\, United States
CATEGORIES:Band
ATTACH;FMTTYPE=image/jpeg:https://gippersgr.com/wp-content/uploads/2022/07/288003801_3380970538817908_7886535415403612316_n.jpg
END:VEVENT
BEGIN:VEVENT
DTSTART;TZID=America/Detroit:20230930T210000
DTEND;TZID=America/Detroit:20231001T000000
DTSTAMP:20260421T211305
CREATED:20230912T193406Z
LAST-MODIFIED:20230912T193406Z
UID:520-1696107600-1696118400@gippersgr.com
SUMMARY:Hot Sauce @ Gippers
DESCRIPTION:
URL:https://gippersgr.com/event/hot-sauce-gippers/
LOCATION:Gippers Bar & Restaurant\, 2929 Kraft Ave SE\, Grand Rapids\, MI 49512\, Grand Rapids\, MI\, 49512\, United States
CATEGORIES:Band
ATTACH;FMTTYPE=image/jpeg:https://gippersgr.com/wp-content/uploads/2022/07/289007305_10218494881877914_7907939122123008029_n.jpeg
END:VEVENT
END:VCALENDAR