BEGIN:VCALENDAR
VERSION:2.0
PRODID:-//Gippers Bar &amp; Restaurant - ECPv6.15.20//NONSGML v1.0//EN
CALSCALE:GREGORIAN
METHOD:PUBLISH
X-WR-CALNAME:Gippers Bar &amp; Restaurant
X-ORIGINAL-URL:https://gippersgr.com
X-WR-CALDESC:Events for Gippers Bar &amp; Restaurant
REFRESH-INTERVAL;VALUE=DURATION:PT1H
X-Robots-Tag:noindex
X-PUBLISHED-TTL:PT1H
BEGIN:VTIMEZONE
TZID:America/Detroit
BEGIN:DAYLIGHT
TZOFFSETFROM:-0500
TZOFFSETTO:-0400
TZNAME:EDT
DTSTART:20220313T070000
END:DAYLIGHT
BEGIN:STANDARD
TZOFFSETFROM:-0400
TZOFFSETTO:-0500
TZNAME:EST
DTSTART:20221106T060000
END:STANDARD
BEGIN:DAYLIGHT
TZOFFSETFROM:-0500
TZOFFSETTO:-0400
TZNAME:EDT
DTSTART:20230312T070000
END:DAYLIGHT
BEGIN:STANDARD
TZOFFSETFROM:-0400
TZOFFSETTO:-0500
TZNAME:EST
DTSTART:20231105T060000
END:STANDARD
BEGIN:DAYLIGHT
TZOFFSETFROM:-0500
TZOFFSETTO:-0400
TZNAME:EDT
DTSTART:20240310T070000
END:DAYLIGHT
BEGIN:STANDARD
TZOFFSETFROM:-0400
TZOFFSETTO:-0500
TZNAME:EST
DTSTART:20241103T060000
END:STANDARD
END:VTIMEZONE
BEGIN:VEVENT
DTSTART;TZID=America/Detroit:20230505T200000
DTEND;TZID=America/Detroit:20230506T000000
DTSTAMP:20260422T043603
CREATED:20230328T185520Z
LAST-MODIFIED:20230328T185520Z
UID:467-1683316800-1683331200@gippersgr.com
SUMMARY:Barenaked 90's @ Gippers
DESCRIPTION:
URL:https://gippersgr.com/event/barenaked-90s-gippers-2/
LOCATION:Gippers Bar & Restaurant\, 2929 Kraft Ave SE\, Grand Rapids\, MI 49512\, Grand Rapids\, MI\, 49512\, United States
CATEGORIES:Band
ATTACH;FMTTYPE=image/jpeg:https://gippersgr.com/wp-content/uploads/2023/03/barenaked-90s.jpg
END:VEVENT
BEGIN:VEVENT
DTSTART;TZID=America/Detroit:20230506T210000
DTEND;TZID=America/Detroit:20230507T000000
DTSTAMP:20260422T043603
CREATED:20230505T171404Z
LAST-MODIFIED:20230505T171404Z
UID:473-1683406800-1683417600@gippersgr.com
SUMMARY:The New Hot Sauce Express @ Gippers
DESCRIPTION:
URL:https://gippersgr.com/event/the-new-hot-sauce-express-gippers-3/
LOCATION:Gippers Bar & Restaurant\, 2929 Kraft Ave SE\, Grand Rapids\, MI 49512\, Grand Rapids\, MI\, 49512\, United States
CATEGORIES:Band
ATTACH;FMTTYPE=image/jpeg:https://gippersgr.com/wp-content/uploads/2022/07/289007305_10218494881877914_7907939122123008029_n.jpeg
END:VEVENT
BEGIN:VEVENT
DTSTART;TZID=America/Detroit:20230512T200000
DTEND;TZID=America/Detroit:20230513T000000
DTSTAMP:20260422T043603
CREATED:20230505T171726Z
LAST-MODIFIED:20230507T002403Z
UID:475-1683921600-1683936000@gippersgr.com
SUMMARY:Flashback @ Gippers
DESCRIPTION:
URL:https://gippersgr.com/event/flashback-gippers-2/
LOCATION:Gippers Bar & Restaurant\, 2929 Kraft Ave SE\, Grand Rapids\, MI 49512\, Grand Rapids\, MI\, 49512\, United States
CATEGORIES:Band
ATTACH;FMTTYPE=image/jpeg:https://gippersgr.com/wp-content/uploads/2022/09/172640_105478422868337_992973_o.jpg
END:VEVENT
BEGIN:VEVENT
DTSTART;TZID=America/Detroit:20230519T200000
DTEND;TZID=America/Detroit:20230520T000000
DTSTAMP:20260422T043603
CREATED:20230505T172001Z
LAST-MODIFIED:20230507T002300Z
UID:477-1684526400-1684540800@gippersgr.com
SUMMARY:Band Meets World @ Gippers
DESCRIPTION:
URL:https://gippersgr.com/event/band-meets-world-gippers/
LOCATION:Gippers Bar & Restaurant\, 2929 Kraft Ave SE\, Grand Rapids\, MI 49512\, Grand Rapids\, MI\, 49512\, United States
CATEGORIES:Band
ATTACH;FMTTYPE=image/jpeg:https://gippersgr.com/wp-content/uploads/2023/05/band-meets-world.jpeg
END:VEVENT
BEGIN:VEVENT
DTSTART;TZID=America/Detroit:20230520T210000
DTEND;TZID=America/Detroit:20230521T000000
DTSTAMP:20260422T043603
CREATED:20230505T172222Z
LAST-MODIFIED:20230505T172413Z
UID:480-1684616400-1684627200@gippersgr.com
SUMMARY:Azz-Izz @ Gippers
DESCRIPTION:
URL:https://gippersgr.com/event/azz-izz-gippers-10/
LOCATION:Gippers Bar & Restaurant\, 2929 Kraft Ave SE\, Grand Rapids\, MI 49512\, Grand Rapids\, MI\, 49512\, United States
CATEGORIES:Band
ATTACH;FMTTYPE=image/jpeg:https://gippersgr.com/wp-content/uploads/2022/07/288003801_3380970538817908_7886535415403612316_n.jpg
END:VEVENT
BEGIN:VEVENT
DTSTART;TZID=America/Detroit:20230527T210000
DTEND;TZID=America/Detroit:20230528T000000
DTSTAMP:20260422T043603
CREATED:20230505T172722Z
LAST-MODIFIED:20230505T172722Z
UID:483-1685221200-1685232000@gippersgr.com
SUMMARY:Par-llo Connection @ Gippers
DESCRIPTION:
URL:https://gippersgr.com/event/par-llo-connection-gippers-11/
LOCATION:Gippers Bar & Restaurant\, 2929 Kraft Ave SE\, Grand Rapids\, MI 49512\, Grand Rapids\, MI\, 49512\, United States
CATEGORIES:Band
ATTACH;FMTTYPE=image/jpeg:https://gippersgr.com/wp-content/uploads/2022/07/274086923_1359251291162394_5349018107106833669_n.jpg
END:VEVENT
END:VCALENDAR