BEGIN:VCALENDAR
VERSION:2.0
PRODID:-//Gippers Bar &amp; Restaurant - ECPv6.15.20//NONSGML v1.0//EN
CALSCALE:GREGORIAN
METHOD:PUBLISH
X-WR-CALNAME:Gippers Bar &amp; Restaurant
X-ORIGINAL-URL:https://gippersgr.com
X-WR-CALDESC:Events for Gippers Bar &amp; Restaurant
REFRESH-INTERVAL;VALUE=DURATION:PT1H
X-Robots-Tag:noindex
X-PUBLISHED-TTL:PT1H
BEGIN:VTIMEZONE
TZID:America/Detroit
BEGIN:DAYLIGHT
TZOFFSETFROM:-0500
TZOFFSETTO:-0400
TZNAME:EDT
DTSTART:20210314T070000
END:DAYLIGHT
BEGIN:STANDARD
TZOFFSETFROM:-0400
TZOFFSETTO:-0500
TZNAME:EST
DTSTART:20211107T060000
END:STANDARD
BEGIN:DAYLIGHT
TZOFFSETFROM:-0500
TZOFFSETTO:-0400
TZNAME:EDT
DTSTART:20220313T070000
END:DAYLIGHT
BEGIN:STANDARD
TZOFFSETFROM:-0400
TZOFFSETTO:-0500
TZNAME:EST
DTSTART:20221106T060000
END:STANDARD
BEGIN:DAYLIGHT
TZOFFSETFROM:-0500
TZOFFSETTO:-0400
TZNAME:EDT
DTSTART:20230312T070000
END:DAYLIGHT
BEGIN:STANDARD
TZOFFSETFROM:-0400
TZOFFSETTO:-0500
TZNAME:EST
DTSTART:20231105T060000
END:STANDARD
END:VTIMEZONE
BEGIN:VEVENT
DTSTART;TZID=America/Detroit:20221105T200000
DTEND;TZID=America/Detroit:20221106T010000
DTSTAMP:20260422T141200
CREATED:20221029T154024Z
LAST-MODIFIED:20221111T021413Z
UID:387-1667678400-1667696400@gippersgr.com
SUMMARY:Par-llo Connection @ Gippers
DESCRIPTION:
URL:https://gippersgr.com/event/par-llo-connection-gippers-8/
LOCATION:Gippers Bar & Restaurant\, 2929 Kraft Ave SE\, Grand Rapids\, MI 49512\, Grand Rapids\, MI\, 49512\, United States
CATEGORIES:Band
ATTACH;FMTTYPE=image/jpeg:https://gippersgr.com/wp-content/uploads/2022/07/274086923_1359251291162394_5349018107106833669_n.jpg
END:VEVENT
BEGIN:VEVENT
DTSTART;TZID=America/Detroit:20221119T200000
DTEND;TZID=America/Detroit:20221120T010000
DTSTAMP:20260422T141200
CREATED:20221029T154204Z
LAST-MODIFIED:20221029T154204Z
UID:389-1668888000-1668906000@gippersgr.com
SUMMARY:Hot Sauce Express @ Gippers
DESCRIPTION:
URL:https://gippersgr.com/event/hot-sauce-express-gippers/
LOCATION:Gippers Bar & Restaurant\, 2929 Kraft Ave SE\, Grand Rapids\, MI 49512\, Grand Rapids\, MI\, 49512\, United States
CATEGORIES:Band
ATTACH;FMTTYPE=image/jpeg:https://gippersgr.com/wp-content/uploads/2022/07/289007305_10218494881877914_7907939122123008029_n.jpeg
END:VEVENT
BEGIN:VEVENT
DTSTART;TZID=America/Detroit:20221126T200000
DTEND;TZID=America/Detroit:20221127T010000
DTSTAMP:20260422T141200
CREATED:20221029T154349Z
LAST-MODIFIED:20221029T154349Z
UID:391-1669492800-1669510800@gippersgr.com
SUMMARY:Par-llo Connection @ Gippers
DESCRIPTION:
URL:https://gippersgr.com/event/par-llo-connection-gippers-9/
LOCATION:Gippers Bar & Restaurant\, 2929 Kraft Ave SE\, Grand Rapids\, MI 49512\, Grand Rapids\, MI\, 49512\, United States
CATEGORIES:Band
ATTACH;FMTTYPE=image/jpeg:https://gippersgr.com/wp-content/uploads/2022/07/274086923_1359251291162394_5349018107106833669_n.jpg
END:VEVENT
END:VCALENDAR