BEGIN:VCALENDAR
VERSION:2.0
PRODID:-//Gippers Bar &amp; Restaurant - ECPv6.15.20//NONSGML v1.0//EN
CALSCALE:GREGORIAN
METHOD:PUBLISH
X-WR-CALNAME:Gippers Bar &amp; Restaurant
X-ORIGINAL-URL:https://gippersgr.com
X-WR-CALDESC:Events for Gippers Bar &amp; Restaurant
REFRESH-INTERVAL;VALUE=DURATION:PT1H
X-Robots-Tag:noindex
X-PUBLISHED-TTL:PT1H
BEGIN:VTIMEZONE
TZID:America/Detroit
BEGIN:DAYLIGHT
TZOFFSETFROM:-0500
TZOFFSETTO:-0400
TZNAME:EDT
DTSTART:20210314T070000
END:DAYLIGHT
BEGIN:STANDARD
TZOFFSETFROM:-0400
TZOFFSETTO:-0500
TZNAME:EST
DTSTART:20211107T060000
END:STANDARD
BEGIN:DAYLIGHT
TZOFFSETFROM:-0500
TZOFFSETTO:-0400
TZNAME:EDT
DTSTART:20220313T070000
END:DAYLIGHT
BEGIN:STANDARD
TZOFFSETFROM:-0400
TZOFFSETTO:-0500
TZNAME:EST
DTSTART:20221106T060000
END:STANDARD
BEGIN:DAYLIGHT
TZOFFSETFROM:-0500
TZOFFSETTO:-0400
TZNAME:EDT
DTSTART:20230312T070000
END:DAYLIGHT
BEGIN:STANDARD
TZOFFSETFROM:-0400
TZOFFSETTO:-0500
TZNAME:EST
DTSTART:20231105T060000
END:STANDARD
END:VTIMEZONE
BEGIN:VEVENT
DTSTART;TZID=America/Detroit:20220114T160000
DTEND;TZID=America/Detroit:20220114T190000
DTSTAMP:20260423T070306
CREATED:20220113T000332Z
LAST-MODIFIED:20220113T000528Z
UID:320-1642176000-1642186800@gippersgr.com
SUMMARY:Oh Gee @ Gippers
DESCRIPTION:
URL:https://gippersgr.com/event/oh-gee-gippers/
LOCATION:Gippers Bar & Restaurant\, 2929 Kraft Ave SE\, Grand Rapids\, MI 49512\, Grand Rapids\, MI\, 49512\, United States
CATEGORIES:Band
ATTACH;FMTTYPE=image/jpeg:https://gippersgr.com/wp-content/uploads/2022/01/10333505_810175995671366_2049938459112224735_o.jpg
END:VEVENT
BEGIN:VEVENT
DTSTART;TZID=America/Detroit:20220115T160000
DTEND;TZID=America/Detroit:20220115T190000
DTSTAMP:20260423T070306
CREATED:20220105T203422Z
LAST-MODIFIED:20220105T203422Z
UID:316-1642262400-1642273200@gippersgr.com
SUMMARY:Azz-Izz @ Gippers
DESCRIPTION:
URL:https://gippersgr.com/event/azz-izz-gippers-3/
LOCATION:Gippers Bar & Restaurant\, 2929 Kraft Ave SE\, Grand Rapids\, MI 49512\, Grand Rapids\, MI\, 49512\, United States
CATEGORIES:Band
ATTACH;FMTTYPE=image/jpeg:https://gippersgr.com/wp-content/uploads/2021/10/azz-izz.jpeg
END:VEVENT
BEGIN:VEVENT
DTSTART;TZID=America/Detroit:20220122T160000
DTEND;TZID=America/Detroit:20220122T190000
DTSTAMP:20260423T070306
CREATED:20220118T233720Z
LAST-MODIFIED:20220119T012504Z
UID:326-1642867200-1642878000@gippersgr.com
SUMMARY:Par-llo Connection @ Gippers
DESCRIPTION:
URL:https://gippersgr.com/event/par-llo-connection-gippers-4/
LOCATION:Gippers Bar & Restaurant\, 2929 Kraft Ave SE\, Grand Rapids\, MI 49512\, Grand Rapids\, MI\, 49512\, United States
CATEGORIES:Band
ATTACH;FMTTYPE=image/jpeg:https://gippersgr.com/wp-content/uploads/2022/01/par-llo.jpg
END:VEVENT
END:VCALENDAR