BEGIN:VCALENDAR
VERSION:2.0
PRODID:-//Gippers Bar &amp; Restaurant - ECPv6.15.20//NONSGML v1.0//EN
CALSCALE:GREGORIAN
METHOD:PUBLISH
X-WR-CALNAME:Gippers Bar &amp; Restaurant
X-ORIGINAL-URL:https://gippersgr.com
X-WR-CALDESC:Events for Gippers Bar &amp; Restaurant
REFRESH-INTERVAL;VALUE=DURATION:PT1H
X-Robots-Tag:noindex
X-PUBLISHED-TTL:PT1H
BEGIN:VTIMEZONE
TZID:America/Detroit
BEGIN:DAYLIGHT
TZOFFSETFROM:-0500
TZOFFSETTO:-0400
TZNAME:EDT
DTSTART:20200308T070000
END:DAYLIGHT
BEGIN:STANDARD
TZOFFSETFROM:-0400
TZOFFSETTO:-0500
TZNAME:EST
DTSTART:20201101T060000
END:STANDARD
BEGIN:DAYLIGHT
TZOFFSETFROM:-0500
TZOFFSETTO:-0400
TZNAME:EDT
DTSTART:20210314T070000
END:DAYLIGHT
BEGIN:STANDARD
TZOFFSETFROM:-0400
TZOFFSETTO:-0500
TZNAME:EST
DTSTART:20211107T060000
END:STANDARD
BEGIN:DAYLIGHT
TZOFFSETFROM:-0500
TZOFFSETTO:-0400
TZNAME:EDT
DTSTART:20220313T070000
END:DAYLIGHT
BEGIN:STANDARD
TZOFFSETFROM:-0400
TZOFFSETTO:-0500
TZNAME:EST
DTSTART:20221106T060000
END:STANDARD
END:VTIMEZONE
BEGIN:VEVENT
DTSTART;TZID=America/Detroit:20211002T160000
DTEND;TZID=America/Detroit:20211002T210000
DTSTAMP:20260423T115742
CREATED:20210923T225015Z
LAST-MODIFIED:20210923T225350Z
UID:210-1633190400-1633208400@gippersgr.com
SUMMARY:Kentucky Junkies Ride Again WSG Common Molly
DESCRIPTION:Kentucky Junkies ride again!!We are super stoked to be back! “Straight outta COVID”- our first show this year!!! LIVE MUSIC/ NO COVER/ great food & drink specials. Music begins @ 8pm with our friends in “Common Molly”. Hope to see everyone!!
URL:https://gippersgr.com/event/kentucky-junkies-ride-again-wsg-common-molly/
LOCATION:Gippers Bar & Restaurant\, 2929 Kraft Ave SE\, Grand Rapids\, MI 49512\, Grand Rapids\, MI\, 49512\, United States
CATEGORIES:Band
ATTACH;FMTTYPE=image/jpeg:https://gippersgr.com/wp-content/uploads/2021/09/kentucky_junkies.jpg
END:VEVENT
BEGIN:VEVENT
DTSTART;TZID=America/Detroit:20211016T170000
DTEND;TZID=America/Detroit:20211016T210000
DTSTAMP:20260423T115742
CREATED:20211014T205253Z
LAST-MODIFIED:20211014T205608Z
UID:224-1634403600-1634418000@gippersgr.com
SUMMARY:Azz Izz @ Gippers
DESCRIPTION:Live music\, dancing\, foods\, drinks & friends
URL:https://gippersgr.com/event/azz-izz-gippers/
LOCATION:Gippers Bar & Restaurant\, 2929 Kraft Ave SE\, Grand Rapids\, MI 49512\, Grand Rapids\, MI\, 49512\, United States
CATEGORIES:Band
ATTACH;FMTTYPE=image/jpeg:https://gippersgr.com/wp-content/uploads/2021/10/azz-izz.jpeg
END:VEVENT
BEGIN:VEVENT
DTSTART;TZID=America/Detroit:20211023T170000
DTEND;TZID=America/Detroit:20211023T200000
DTSTAMP:20260423T115742
CREATED:20211022T205646Z
LAST-MODIFIED:20211022T205646Z
UID:230-1635008400-1635019200@gippersgr.com
SUMMARY:PAR-LLO Connection @ Gippers
DESCRIPTION:
URL:https://gippersgr.com/event/par-llo-connection-gippers/
LOCATION:Gippers Bar & Restaurant\, 2929 Kraft Ave SE\, Grand Rapids\, MI 49512\, Grand Rapids\, MI\, 49512\, United States
CATEGORIES:Band
ATTACH;FMTTYPE=image/jpeg:https://gippersgr.com/wp-content/uploads/2021/10/241431024_1262958480791676_3075564841463584428_n.jpg
END:VEVENT
END:VCALENDAR